BEGIN:VCALENDAR
VERSION:2.0
PRODID:-//wp-events-plugin.com//7.2.3.1//EN
BEGIN:VEVENT
UID:24636@blueridgemusic.org
DTSTART;TZID=America/New_York:20251101T100000
DTEND;TZID=America/New_York:20251101T170000
DTSTAMP:20250627T184136Z
URL:https://blueridgemusic.org/events/albemarle-ciderworks-apple-harvest-f
 estival/
SUMMARY:Albemarle CiderWorks Apple Harvest Festival
DESCRIPTION:Visit Albemarle County\, Virginia for one of the most anticipat
 ed festivals of autumn\, the Apple Harvest Festival hosted by the CoveGard
 en Ruritans and Albemarle CiderWorks! Find many of your favorite farmers' 
 market vendors\, local artisans\, and craftsmen demonstrating their skills
 . Enjoy Brunswick stew and apple butter or grab some to go. Dig your teeth
  into a variety of apples and taste an array of CiderWorks' fine sparkling
  ciders. Dance the afternoon away with live music from local bands\, and t
 ake a hayride around the mountain.\n\nPhone: 434-297-2326\nEmail: fruit@al
 bemarleciderworks.com\nURL: Albemarle CiderWorks\n\nHours: 10am - 5pm
CATEGORIES:Festival
LOCATION:Albemarle Cider Works and Vintage Virginia Apples\, 2545 Rural Rid
 ge Lane \, North Garden\, Virginia\, 22959\, Albemarle\, United States
GEO:37.966567;-78.649869
X-APPLE-STRUCTURED-LOCATION;VALUE=URI;X-ADDRESS=2545 Rural Ridge Lane \, No
 rth Garden\, Virginia\, 22959\, Albemarle\, United States;X-APPLE-RADIUS=1
 00;X-TITLE=Albemarle Cider Works and Vintage Virginia Apples:geo:37.966567
 ,-78.649869
END:VEVENT
BEGIN:VTIMEZONE
TZID:America/New_York
X-LIC-LOCATION:America/New_York
BEGIN:DAYLIGHT
DTSTART:20250309T030000
TZOFFSETFROM:-0500
TZOFFSETTO:-0400
TZNAME:EDT
END:DAYLIGHT
END:VTIMEZONE
END:VCALENDAR