BEGIN:VCALENDAR
VERSION:2.0
PRODID:-//wp-events-plugin.com//7.2.3.1//EN
BEGIN:VEVENT
UID:5660@blueridgemusic.org
DTSTART;TZID=America/New_York:20250731T100000
DTEND;TZID=America/New_York:20250802T210000
DTSTAMP:20250523T161705Z
URL:https://blueridgemusic.org/events/albemarle-county-fair-4/
SUMMARY:Albemarle County Fair
DESCRIPTION:The Albemarle County Fair presents livestock shows\, local vend
 ors\, live music\, and more on the fairgrounds at James Monroe's Highland 
 this year\, from July 31st to August 2nd. Come to explore James Monroe's H
 ighland\, listen to the live music\, see the local vendors and their goods
 \, and watch the livestock shows and competitions or fill out an entry for
 m and be a part of it yourself! Admission is $5 per person\, and children 
 younger than 6 are free.\n\nHours: \nJuly 31st: 4pm - 9pm\nAugust 1st &am
 p\; 2nd: 10am - 9pm\nURL: Homepage - Albemarle County Fair\n\n&nbsp\;\n\n&
 nbsp\;
CATEGORIES:Fair
LOCATION:James Monroe's Highland\, 2050 James Monroe Parkway\, Charlottesvi
 lle \, Virginita\, 22902\, Albemarle\, United States
X-APPLE-STRUCTURED-LOCATION;VALUE=URI;X-ADDRESS=2050 James Monroe Parkway\,
  Charlottesville \, Virginita\, 22902\, Albemarle\, United States;X-APPLE-
 RADIUS=100;X-TITLE=James Monroe's Highland:geo:0,0
END:VEVENT
BEGIN:VTIMEZONE
TZID:America/New_York
X-LIC-LOCATION:America/New_York
BEGIN:DAYLIGHT
DTSTART:20250309T030000
TZOFFSETFROM:-0500
TZOFFSETTO:-0400
TZNAME:EDT
END:DAYLIGHT
END:VTIMEZONE
END:VCALENDAR