BEGIN:VCALENDAR
VERSION:2.0
PRODID:-//wp-events-plugin.com//7.2.3.1//EN
BEGIN:VEVENT
UID:1@blueridgemusic.org
DTSTART;TZID=America/New_York;VALUE=DATE:20230829
DTEND;TZID=America/New_York;VALUE=DATE:20230831
DTSTAMP:20230629T215154Z
URL:https://blueridgemusic.org/events/albemarle-county-fair/
SUMMARY:Albemarle County Fair
DESCRIPTION:Come hear great live traditional music! The Albemarle County Fa
 ir\, Inc.\, a nonprofit\, regionally based corporation\, has as its primar
 y mission to annually sponsor the Albemarle County Fair. This Fair is prim
 arily focused on serving the Charlottesville-Albemarle area by promoting t
 he involvement of the area’s public and visitors in its programming. The
  programs strive to provide wholesome entertainment and activities that em
 phasize the deep human\, natural\, and agricultural resources of Central V
 irginia.\n\nPhone: (434) 293-8000\nEmail: info@highland.org\nURL: https
 ://albemarlecountyfair.com\n\nHours: Thursday: 4:00pm-9:00pm Friday-Saturd
 ay: 10:00am-9:00pm\nAugust 29th-30th\n\nAdmission: Free\n\nHandicap Access
 ible\n\n\nDirections:\n\n\nFrom Waynesboro- Get on I-64 E from S Wayne Ave
  and S Delphine Ave.Follow I-64 E to Scottsville. Take exit 121A from I-64
  E. Take VA-53 E to Ashlawn-Highland Dr. Turn right onto Ashlawn-Highland 
 Dr. Destination will be on the right.
CATEGORIES:Fair
LOCATION:James Monroe's Highland\, 2050 James Monroe Parkway\, Charlottesvi
 lle \, Virginita\, 22902\, Albemarle\, United States
X-APPLE-STRUCTURED-LOCATION;VALUE=URI;X-ADDRESS=2050 James Monroe Parkway\,
  Charlottesville \, Virginita\, 22902\, Albemarle\, United States;X-APPLE-
 RADIUS=100;X-TITLE=James Monroe's Highland:geo:0,0
END:VEVENT
BEGIN:VTIMEZONE
TZID:America/New_York
X-LIC-LOCATION:America/New_York
BEGIN:DAYLIGHT
DTSTART:20230312T030000
TZOFFSETFROM:-0500
TZOFFSETTO:-0400
TZNAME:EDT
END:DAYLIGHT
END:VTIMEZONE
END:VCALENDAR