BEGIN:VCALENDAR
VERSION:2.0
PRODID:-//wp-events-plugin.com//7.2.3.1//EN
BEGIN:VEVENT
UID:23257@blueridgemusic.org
DTSTART;TZID=America/New_York:20250830T110000
DTEND;TZID=America/New_York:20250830T160000
DTSTAMP:20250625T192641Z
URL:https://blueridgemusic.org/events/albert-hash-memorial-festival-2/
SUMMARY:Albert Hash Memorial Festival
DESCRIPTION:This beloved festival celebrates the life and legacy of the ren
 owned Appalachian fiddle maker and musician Albert Hash and honors the ric
 h musical heritage of Southwest Virginia. The Albert Hash Memorial Festiva
 l will feature Old Time Music\, dancing\, food\, crafts\, and instrument m
 akers. Featured performers come from all over to play in this festival\, s
 o make sure to stop by to hear them play! Both admission and parking are $
 10 each.\n\nPhone: 276-579-7092\nEmail: graysonhighlands@dcr.virginia.gov\
 nURL: Albert Hash Memorial Festival | Mouth of Wilson VA | Facebook\n\nHou
 rs: 11am - 4pm
CATEGORIES:Festival
LOCATION:Grayson Highlands State Park\, 829 Grayson Highland Lane\, Mouth o
 f Wilson\, Virginia\, 24363\, United States
X-APPLE-STRUCTURED-LOCATION;VALUE=URI;X-ADDRESS=829 Grayson Highland Lane\,
  Mouth of Wilson\, Virginia\, 24363\, United States;X-APPLE-RADIUS=100;X-T
 ITLE=Grayson Highlands State Park:geo:0,0
END:VEVENT
BEGIN:VTIMEZONE
TZID:America/New_York
X-LIC-LOCATION:America/New_York
BEGIN:DAYLIGHT
DTSTART:20250309T030000
TZOFFSETFROM:-0500
TZOFFSETTO:-0400
TZNAME:EDT
END:DAYLIGHT
END:VTIMEZONE
END:VCALENDAR