BEGIN:VCALENDAR
VERSION:2.0
PRODID:-//wp-events-plugin.com//7.2.3.1//EN
BEGIN:VEVENT
UID:394@blueridgemusic.org
DTSTART;TZID=America/New_York:20241019T100000
DTEND;TZID=America/New_York:20241019T163000
DTSTAMP:20240612T140554Z
URL:https://blueridgemusic.org/events/apple-butter-makin-festival-2/
SUMMARY:Apple Butter Makin' Festival (2)
DESCRIPTION:For over 30 years\, Silver Creek &amp\; Seamans’ Orchards (S
 CSO) has been having their Apple Butter Makin’ Festivals the first and 
 third Saturdays in October. The festival features the making of apple butt
 er\, live music\, food\, a corn maze\, a pick your own pumpkin patch\, and
  tons of apples to choose from.\n\nPhone: 434-277-5824\nEmail: info@scso
 .co\nURL: http://silvercreekseamansorchards.com\n\nTime:10am-4:30pm\n\nDi
 rections:\nFrom Roanoke get on I-581 N/US-220 N from Gainsboro Rd NW. Foll
 ow I-81 N to VA-710 in Fairfield. Take exit 200 from I-81 N. Drive to VA-5
 6 E in Tyro and the orchard will be on the right.
CATEGORIES:Festival
LOCATION:Silver Creek &amp\; Seamans’ Orchards\, 5529 Crabtree Falls Hwy\
 , Tyro\, VA\, 22976\, United States
X-APPLE-STRUCTURED-LOCATION;VALUE=URI;X-ADDRESS=5529 Crabtree Falls Hwy\, T
 yro\, VA\, 22976\, United States;X-APPLE-RADIUS=100;X-TITLE=Silver Creek &
  Seamans’ Orchards:geo:0,0
END:VEVENT
BEGIN:VTIMEZONE
TZID:America/New_York
X-LIC-LOCATION:America/New_York
BEGIN:DAYLIGHT
DTSTART:20240310T030000
TZOFFSETFROM:-0500
TZOFFSETTO:-0400
TZNAME:EDT
END:DAYLIGHT
END:VTIMEZONE
END:VCALENDAR