BEGIN:VCALENDAR
VERSION:2.0
PRODID:-//wp-events-plugin.com//7.2.3.1//EN
BEGIN:VEVENT
UID:163@blueridgemusic.org
DTSTART;TZID=America/New_York;VALUE=DATE:20231104
DTEND;TZID=America/New_York;VALUE=DATE:20231106
DTSTAMP:20230629T215155Z
URL:https://blueridgemusic.org/events/apple-harvest-drive-thru-festival/
SUMMARY:Apple Harvest (Drive-Thru) Festival
DESCRIPTION:Come together to listen to great music and enjoy workshops\, fo
 od\, apple products\, and a variety of craft vendors for an entire day! Th
 e Apple Harvest Festival is a yearly event hosted by Vintage Virginia Appl
 es and the Cove Garden Ruritan Club.\n\nPhone: 434-297-2326\nEmail: frui
 t@albemarleciderworks.com\nURL: https://www.albemarleciderworks.com/news/
 harvest-festival\n\nHours: 10:00am-5:00pm\nFirst Saturday and Sunday of No
 vember\n\nDirections:\nLocated on U.S. Route 29\, just south of Charlottes
 ville\, Virginia\, about 8/10 miles north of State Route 692. From Charlot
 tesville\, proceed exactly 8 miles south from I-64 and turn right onto Rur
 al Ridge Lane.
CATEGORIES:Festival
LOCATION:Albemarle Cider Works and Vintage Virginia Apples\, 2545 Rural Rid
 ge Lane \, North Garden\, Virginia\, 22959\, Albemarle\, United States
GEO:37.966567;-78.649869
X-APPLE-STRUCTURED-LOCATION;VALUE=URI;X-ADDRESS=2545 Rural Ridge Lane \, No
 rth Garden\, Virginia\, 22959\, Albemarle\, United States;X-APPLE-RADIUS=1
 00;X-TITLE=Albemarle Cider Works and Vintage Virginia Apples:geo:37.966567
 ,-78.649869
END:VEVENT
BEGIN:VTIMEZONE
TZID:America/New_York
X-LIC-LOCATION:America/New_York
BEGIN:DAYLIGHT
DTSTART:20230312T030000
TZOFFSETFROM:-0500
TZOFFSETTO:-0400
TZNAME:EDT
END:DAYLIGHT
BEGIN:STANDARD
DTSTART:20231105T010000
TZOFFSETFROM:-0400
TZOFFSETTO:-0500
TZNAME:EST
END:STANDARD
END:VTIMEZONE
END:VCALENDAR