BEGIN:VCALENDAR
VERSION:2.0
PRODID:-//wp-events-plugin.com//7.2.3.1//EN
BEGIN:VEVENT
UID:498@blueridgemusic.org
DTSTART;TZID=America/New_York:20241102T100000
DTEND;TZID=America/New_York:20241103T170000
DTSTAMP:20240718T175808Z
URL:https://blueridgemusic.org/events/apple-harvest-festival/
SUMMARY:Apple Harvest Festival
DESCRIPTION:Come together to listen to great music and enjoy workshops\, fo
 od\, apple products\, and a variety of craft vendors for an entire day! T
 he Apple Harvest Festival is a yearly event hosted by Vintage Virginia App
 les and the CoveGarden Ruritan Club.\n\nPhone: 434-297-2326\nEmail: frui
 t@albemarleciderworks.com\nURL: https://www.albemarleciderworks.com/news/
 harvest-festivalHours: 10:00am-5:00pm\nFirst Saturday and Sunday of Novemb
 er\n\nDirections:\nLocated on U.S. Route 29\, just south of Charlottesvill
 e\, Virginia\, about 8/10 miles north of State Route 692. From Charlottesv
 ille\, proceed exactly 8 miles south from I-64 and turn right onto Rural R
 idge Lane.
CATEGORIES:Festival
LOCATION:Albemarle Cider Works and Vintage Virginia Apples\, 2545 Rural Rid
 ge Ln\, North Garden\, VA\, 22959\, United Kingdom
X-APPLE-STRUCTURED-LOCATION;VALUE=URI;X-ADDRESS=2545 Rural Ridge Ln\, North
  Garden\, VA\, 22959\, United Kingdom;X-APPLE-RADIUS=100;X-TITLE=Albemarle
  Cider Works and Vintage Virginia Apples:geo:0,0
END:VEVENT
BEGIN:VTIMEZONE
TZID:America/New_York
X-LIC-LOCATION:America/New_York
BEGIN:DAYLIGHT
DTSTART:20240310T030000
TZOFFSETFROM:-0500
TZOFFSETTO:-0400
TZNAME:EDT
END:DAYLIGHT
BEGIN:STANDARD
DTSTART:20241103T010000
TZOFFSETFROM:-0400
TZOFFSETTO:-0500
TZNAME:EST
END:STANDARD
END:VTIMEZONE
END:VCALENDAR