BEGIN:VCALENDAR
VERSION:2.0
PRODID:-//wp-events-plugin.com//7.2.3.1//EN
BEGIN:VEVENT
UID:5824@blueridgemusic.org
DTSTART;TZID=America/New_York:20250920T100000
DTEND;TZID=America/New_York:20250920T160000
DTSTAMP:20250603T183329Z
URL:https://blueridgemusic.org/events/bedford-centerfest/
SUMMARY:Bedford Centerfest
DESCRIPTION:Centerfest\, one of Virginia's largest outdoor street festivals
 \, has been celebrated in Bedford for over 40 years. This rain or shine fe
 stival is sponsored by Central Va Business Coalition and is a family frien
 dly event that celebrates and promotes the region’s rich cultural tradit
 ions of food\, art\, craft and music. It hosts live music\, an artisan mar
 ket\, food and craft vendors\, children's activities\, and much more! Chec
 k out their Facebook for more information.\n\nPhone: 434-528-1732\nEmail: 
 heather@cvabc.org \nURL: Bedford Centerfest | Facebook\nHours: 10am - 4pm
CATEGORIES:Festival
LOCATION:Centertown Bedford\, 122 East Main Street\, Bedford \, Virginia\, 
 24523\, Bedford\, United States
GEO:37.33403;-79.522844
X-APPLE-STRUCTURED-LOCATION;VALUE=URI;X-ADDRESS=122 East Main Street\, Bedf
 ord \, Virginia\, 24523\, Bedford\, United States;X-APPLE-RADIUS=100;X-TIT
 LE=Centertown Bedford:geo:37.33403,-79.522844
END:VEVENT
BEGIN:VTIMEZONE
TZID:America/New_York
X-LIC-LOCATION:America/New_York
BEGIN:DAYLIGHT
DTSTART:20250309T030000
TZOFFSETFROM:-0500
TZOFFSETTO:-0400
TZNAME:EDT
END:DAYLIGHT
END:VTIMEZONE
END:VCALENDAR