BEGIN:VCALENDAR
VERSION:2.0
PRODID:-//wp-events-plugin.com//7.2.3.1//EN
BEGIN:VEVENT
UID:5326@blueridgemusic.org
DTSTART;TZID=America/New_York:20470912T190000
DTEND;TZID=America/New_York:20470912T203000
DTSTAMP:20250523T144203Z
URL:https://blueridgemusic.org/events/beginner-bluegrass-jam-at-the-front-
 porch-2047-09-12/
SUMMARY:Beginner Bluegrass Jam at the Front Porch
DESCRIPTION:Mondays\, Thursdays\, and Saturdays are jam days!  Front Porch
  jams are open to all levels of players\, including Front Porch students a
 s well as non-students. Attending a jam is free\, low-key\, and fun! All j
 ams take place at their Water Street location\, except for the 2nd Monday
  Old Time Jam\, which takes place at their Dale Ave location\, and the 3r
 d Thursday Open Mic Night\, which takes place at Potter’s Craft Cider.\n
 \nThursday Jam Host: Lucas Rhondeau\n\nPhone: (434) 806-7062\nEmail: inf
 o@frontporchcville.org\nURL: http://frontporchcville.org\n\nHours: 2nd Th
 ursday of the month\, 7pm - 8:30pm
CATEGORIES:Jam Session
LOCATION:The Front Porch\, 221 E Water Street\, Charlottesville\, Virginia\
 , 22902\, United States
X-APPLE-STRUCTURED-LOCATION;VALUE=URI;X-ADDRESS=221 E Water Street\, Charlo
 ttesville\, Virginia\, 22902\, United States;X-APPLE-RADIUS=100;X-TITLE=Th
 e Front Porch:geo:0,0
END:VEVENT
BEGIN:VTIMEZONE
TZID:America/New_York
X-LIC-LOCATION:America/New_York
BEGIN:DAYLIGHT
DTSTART:20470310T030000
TZOFFSETFROM:-0500
TZOFFSETTO:-0400
TZNAME:EDT
END:DAYLIGHT
END:VTIMEZONE
END:VCALENDAR