BEGIN:VCALENDAR
VERSION:2.0
PRODID:-//wp-events-plugin.com//7.2.3.1//EN
BEGIN:VEVENT
UID:16589@blueridgemusic.org
DTSTART;TZID=America/New_York:20271023T100000
DTEND;TZID=America/New_York:20271023T170000
DTSTAMP:20250613T203453Z
URL:https://blueridgemusic.org/events/blue-ridge-folklife-festival-2027-10
 -23/
SUMMARY:Blue Ridge Folklife Festival
DESCRIPTION:On the fourth Saturday of October\, the Blue Ridge Folklife Fes
 tival has presented musicians\, moonshiners\, craftspeople\, cooks\, motor
 heads\, mule jumpers\, horse pullers\, coon dog racers\, antique tractor b
 uffs\, and old-time gamers for a celebration of the rich heritage and trad
 itions of the region. The festival participants are the real thing\, shari
 ng folk traditions that have been a part of their families and/or communit
 ies for years. The Blue Ridge Folklife Festival is the largest regional ev
 ent of its kind in Virginia\, and there’s nothing like it in the Commonw
 ealth. They feature performers\, artisans\, foods\, and activities not fou
 nd at typical craft shows\, fairs\, and festivals. The Blue Ridge Institut
 e &amp\; Museum\, the official State Center for Blue Ridge Folklore\, prod
 uces the festival. Covering much of the Ferrum College campus and the Blue
  Ridge Institute &amp\; Museum’s living history farm museum\, the Blue R
 idge Folklife Festival has something for everyone. It’s a family friendl
 y affair. Rain or shine\, the festival will go on. As always\, parking is 
 free. Proceeds from the festival help to fund the Blue Ridge Institute &am
 p\; Museum and all of its programs.\n\nPhone: 540-365-4416\nEmail: bri@fer
 rum.edu\nURL: Blue Ridge Folklife Festival – Blue Ridge Institute &amp\;
  Museum\n\nHours: 10am - 5pm
CATEGORIES:Festival
LOCATION:Blue Ridge Institute &amp\; Museum\, 20 Museum Drive\, Ferrum\, VA
 \, 24088\, United States
X-APPLE-STRUCTURED-LOCATION;VALUE=URI;X-ADDRESS=20 Museum Drive\, Ferrum\, 
 VA\, 24088\, United States;X-APPLE-RADIUS=100;X-TITLE=Blue Ridge Institute
  & Museum:geo:0,0
END:VEVENT
BEGIN:VTIMEZONE
TZID:America/New_York
X-LIC-LOCATION:America/New_York
BEGIN:DAYLIGHT
DTSTART:20270314T030000
TZOFFSETFROM:-0500
TZOFFSETTO:-0400
TZNAME:EDT
END:DAYLIGHT
END:VTIMEZONE
END:VCALENDAR