BEGIN:VCALENDAR
VERSION:2.0
PRODID:-//wp-events-plugin.com//7.2.3.1//EN
BEGIN:VEVENT
UID:351@blueridgemusic.org
DTSTART;TZID=America/New_York:20241026T100000
DTEND;TZID=America/New_York:20241026T170000
DTSTAMP:20240605T155232Z
URL:https://blueridgemusic.org/events/blue-ridge-folklife-festival/
SUMMARY:Blue Ridge Folklife Festival
DESCRIPTION:The deep-voiced yelps of coon hounds and the braying of jumping
  coon mules mix strangely with the rhythmic sounds of bluegrass banjos and
  old-time fiddles‚ but these and myriad other distinctive sounds reverbe
 rate through the air at the annual Blue Ridge Folklife Festival at Ferrum 
 College‚ the pinnacle of festivals in the Blue Ridge. This hugely popula
 r one-day extravaganza enacts‚ interprets‚ and celebrates the folklife
  and living cultural traditions of the Blue Ridge mountains. It is one of 
 the largest presentations of bona fide regional traditional culture in the
  United States‚ and it is flocked to by twelve thousand people or more w
 ho enjoy a day of fun‚ crafts‚ food‚ and music. The music includes a
  stage for sacred music‚ a stage for string bands‚ and a Blue Ridge He
 ritage stage‚ where a wide variety of musicians playing country blues‚
  rockabilly‚ old-time traditional‚ and country perform. It is an impre
 ssive gathering of the region’s finest traditional players. If there is 
 a problem with the Blue Ridge Folklife Festival‚ it is that there is jus
 t too dang much to see‚ to eat‚ to hear‚ and to do in only one day.\
 nPhone: 540-365-4416\nEmail: bri@ferrum.edu\nURL: http://www.blueridgef
 olklifefestival.com\nHours: 10am- 5pm\n\nDirections:\nFrom Rocky Mount tak
 e Route 40 west to Ferrum. There will be signs for the Festival.
CATEGORIES:Festival
LOCATION:Ferrum College‚\, 20 Museum Drive\, Ferrum\, VA\, 24088\, United
  States
X-APPLE-STRUCTURED-LOCATION;VALUE=URI;X-ADDRESS=20 Museum Drive\, Ferrum\, 
 VA\, 24088\, United States;X-APPLE-RADIUS=100;X-TITLE=Ferrum College‚:ge
 o:0,0
END:VEVENT
BEGIN:VTIMEZONE
TZID:America/New_York
X-LIC-LOCATION:America/New_York
BEGIN:DAYLIGHT
DTSTART:20240310T030000
TZOFFSETFROM:-0500
TZOFFSETTO:-0400
TZNAME:EDT
END:DAYLIGHT
END:VTIMEZONE
END:VCALENDAR