BEGIN:VCALENDAR
VERSION:2.0
PRODID:-//wp-events-plugin.com//7.2.3.1//EN
BEGIN:VEVENT
UID:5774@blueridgemusic.org
DTSTART;TZID=America/New_York:20250626T180000
DTEND;TZID=America/New_York:20250705T220000
DTSTAMP:20250527T191104Z
URL:https://blueridgemusic.org/events/buchanan-community-carnival/
SUMMARY:Buchanan Community Carnival
DESCRIPTION:Come on down to Buchanan\, Virginia to visit the Buchanan Commu
 nity Carnival! Eat some carnival food\, participate in one of the many dif
 ferent carnival attractions\, and watch fireworks be set off for the 4th o
 f July. Great fun for the whole family! Admission to the carnival is free\
 , but wristbands must be purchased for the rides. Wristbands can be purcha
 sed here.\n\nHours: Thursday\, June 26th - Saturday\, July 5th\, 6pm - 10
 pm. Closed on Sunday\, June 29th.\n\nURL: Buchanan Community Carnival 202
 5 | Buchanan VA
CATEGORIES:Fair,Festival
LOCATION:Buchanan Town Park\, 485 Lowe Street\, Buchanan\, Virginia\, 24066
 \, United States
X-APPLE-STRUCTURED-LOCATION;VALUE=URI;X-ADDRESS=485 Lowe Street\, Buchanan\
 , Virginia\, 24066\, United States;X-APPLE-RADIUS=100;X-TITLE=Buchanan Tow
 n Park:geo:0,0
END:VEVENT
BEGIN:VTIMEZONE
TZID:America/New_York
X-LIC-LOCATION:America/New_York
BEGIN:DAYLIGHT
DTSTART:20250309T030000
TZOFFSETFROM:-0500
TZOFFSETTO:-0400
TZNAME:EDT
END:DAYLIGHT
END:VTIMEZONE
END:VCALENDAR