BEGIN:VCALENDAR
VERSION:2.0
PRODID:-//wp-events-plugin.com//7.2.3.1//EN
BEGIN:VEVENT
UID:321@blueridgemusic.org
DTSTART;TZID=America/New_York:20240627T180000
DTEND;TZID=America/New_York:20240706T230000
DTSTAMP:20240531T174359Z
URL:https://blueridgemusic.org/events/buchanans-community-carnival/
SUMMARY:Buchanan’s Community Carnival
DESCRIPTION:This Fourth of July Carnival is held on the streets of Buchanan
  during the days leading up to Independence Day. Festivities include blueg
 rass music‚ food‚ storytelling‚ and a variety of other entertainment
 .\nPhone: 540-254-1212\nEmail: hgleason@buchanan-va.gov\nURL: https://ww
 w.buchanan-va.gov/news-events/page/buchanan-community-carnival-2024\nHours
 : 6:00pm-11:00pm\n\nDirections:\nComing from Roanoke‚ take Interstate 81
  north to exit 162 to US 11. Then take US 11 north to the town of Buchanan
 . Coming from Lexington‚ take Interstate 81 south to exit 167 to US 11. 
 Then take US 11 south to the town of Buchanan.
CATEGORIES:Fair
LOCATION:Town of Buchanan\, 19753 Main Street\, Buchanan\, Virginia\, 24066
 \, Carroll\, United States
GEO:37.527962;-79.679876
X-APPLE-STRUCTURED-LOCATION;VALUE=URI;X-ADDRESS=19753 Main Street\, Buchana
 n\, Virginia\, 24066\, Carroll\, United States;X-APPLE-RADIUS=100;X-TITLE=
 Town of Buchanan:geo:37.527962,-79.679876
END:VEVENT
BEGIN:VTIMEZONE
TZID:America/New_York
X-LIC-LOCATION:America/New_York
BEGIN:DAYLIGHT
DTSTART:20240310T030000
TZOFFSETFROM:-0500
TZOFFSETTO:-0400
TZNAME:EDT
END:DAYLIGHT
END:VTIMEZONE
END:VCALENDAR