BEGIN:VCALENDAR
VERSION:2.0
PRODID:-//wp-events-plugin.com//7.2.3.1//EN
BEGIN:VEVENT
UID:21944@blueridgemusic.org
DTSTART;TZID=America/New_York:20250628T130000
DTEND;TZID=America/New_York:20250628T200000
DTSTAMP:20250623T201607Z
URL:https://blueridgemusic.org/events/carroll-county-music-festival/
SUMMARY:Carroll County Music Festival
DESCRIPTION:Brass meets Bluegrass is the theme of this year's Carroll Count
 y Music Festival. Located at the Hillsville Farmers Market\, the festival 
 showcases a lineup full of jazz\, bluegrass\, and other genres\, and inclu
 des food trucks\, a raffle\, and a children's area! Tickets can be purchas
 ed online here\, with children 12 years or under free.\n\nEmail: cccArtsCe
 nter@gmail.com\nURL: Carroll County Creative Arts Center | Hillsville VA |
  Facebook \n\nHours: 1pm - 8pm
CATEGORIES:Festival
LOCATION:Hillsville Farmers Market Stage\, 405 Main Street\, Hillsville\, V
 irginia\, 24343\, United States
X-APPLE-STRUCTURED-LOCATION;VALUE=URI;X-ADDRESS=405 Main Street\, Hillsvill
 e\, Virginia\, 24343\, United States;X-APPLE-RADIUS=100;X-TITLE=Hillsville
  Farmers Market Stage:geo:0,0
END:VEVENT
BEGIN:VTIMEZONE
TZID:America/New_York
X-LIC-LOCATION:America/New_York
BEGIN:DAYLIGHT
DTSTART:20250309T030000
TZOFFSETFROM:-0500
TZOFFSETTO:-0400
TZNAME:EDT
END:DAYLIGHT
END:VTIMEZONE
END:VCALENDAR