BEGIN:VCALENDAR
VERSION:2.0
PRODID:-//wp-events-plugin.com//7.2.3.1//EN
BEGIN:VEVENT
UID:320@blueridgemusic.org
DTSTART;TZID=America/New_York:20240928T100000
DTEND;TZID=America/New_York:20240928T180000
DTSTAMP:20240531T173007Z
URL:https://blueridgemusic.org/events/centerfest-at-bedford-farmers-market
 -2/
SUMMARY:CenterFest at Bedford Farmer’s Market
DESCRIPTION:Bedford Main Street’s signature event‚ Centerfest‚ has be
 en running annually for over thirty years. Spanning over four blocks and d
 rawing crowds of over 10‚000 it is an event for the entire family. Attra
 ctions at Centerfest include over a hundred vendors and organizations prov
 iding various crafts‚ traditional music‚ art‚ and information.\nPhon
 e: 540-425-5653\nURL:\nHours: 10 am - 6 pm
CATEGORIES:Festival
LOCATION:Centertown Bedford\, 122 East Main Street\, Bedford \, Virginia\, 
 24523\, Bedford\, United States
GEO:37.33403;-79.522844
X-APPLE-STRUCTURED-LOCATION;VALUE=URI;X-ADDRESS=122 East Main Street\, Bedf
 ord \, Virginia\, 24523\, Bedford\, United States;X-APPLE-RADIUS=100;X-TIT
 LE=Centertown Bedford:geo:37.33403,-79.522844
END:VEVENT
BEGIN:VTIMEZONE
TZID:America/New_York
X-LIC-LOCATION:America/New_York
BEGIN:DAYLIGHT
DTSTART:20240310T030000
TZOFFSETFROM:-0500
TZOFFSETTO:-0400
TZNAME:EDT
END:DAYLIGHT
END:VTIMEZONE
END:VCALENDAR