BEGIN:VCALENDAR
VERSION:2.0
PRODID:-//wp-events-plugin.com//7.2.3.1//EN
BEGIN:VEVENT
UID:431@blueridgemusic.org
DTSTART;TZID=America/New_York;VALUE=DATE:20240614
DTEND;TZID=America/New_York;VALUE=DATE:20240623
DTSTAMP:20240528T174447Z
URL:https://blueridgemusic.org/events/chautauqua-festival/
SUMMARY:Chautauqua Festival
DESCRIPTION:The first Chautauqua Festival was staged in the southwest Virgi
 nia community of Wytheville in 1985. This annual celebration includes chil
 dren’s activities‚ arts and crafts‚ hot air ballooning‚ magic show
 s‚ mountain music‚ drama‚ traditional dance‚ and special exhibits\
 ; there is even a parade! The music begins in the early afternoon.\n\n&nbs
 p\;\n\nPhone: 276-228-6855\nEmail: wythevillefestival@yahoo.com\nURL: h
 ttps://www.wythe-arts.org/chautauqua\n\nDirections:\nFrom Interstate 81‚
  take exit 73 onto Main Street . Follow it into town until you come to the
  fifth stop light (they are numbered). At the light take a left onto First
  Street. Stay on First Street until you come to Spring Street. Take a righ
 t onto Spring Street and stay on it until you come to Fourth Street. Take 
 a left on Fourth Street and look for the signs.
CATEGORIES:Festival
LOCATION:Elizabeth Brown Memorial Park\, 195 West Washington Street\, Wythe
 ville\, VA\, 24382\, United States
X-APPLE-STRUCTURED-LOCATION;VALUE=URI;X-ADDRESS=195 West Washington Street\
 , Wytheville\, VA\, 24382\, United States;X-APPLE-RADIUS=100;X-TITLE=Eliza
 beth Brown Memorial Park:geo:0,0
END:VEVENT
BEGIN:VTIMEZONE
TZID:America/New_York
X-LIC-LOCATION:America/New_York
BEGIN:DAYLIGHT
DTSTART:20240310T030000
TZOFFSETFROM:-0500
TZOFFSETTO:-0400
TZNAME:EDT
END:DAYLIGHT
END:VTIMEZONE
END:VCALENDAR