BEGIN:VCALENDAR
VERSION:2.0
PRODID:-//wp-events-plugin.com//7.2.3.1//EN
BEGIN:VEVENT
UID:209@blueridgemusic.org
DTSTART;TZID=America/New_York:20231014T100000
DTEND;TZID=America/New_York:20231014T140000
DTSTAMP:20230629T215154Z
URL:https://blueridgemusic.org/events/cider-barn-fall-festival/
SUMMARY:Cider Barn Fall Festival
DESCRIPTION:\n\nEnjoy the day at Chapel Creek Farms with live music all day
 \, fresh cider\, a variety of vendors\, and hayrides. The event is fun for
  the entire family and admission is free. Due to COVID-19 please contact C
 hapel Creek Farms for updated information about the festival. \n\nPhone: 
 (540) 556-4442\n\nURL: https://chapelcreek-farms.com/\n\n\n\n\nDirections:
 \nFrom Roanoke\, take Gainsboro Rd NW to Orange Ave NW. Then take I-581 N/
 US-220 N and I-81 N to State Rte 653 in Valley. Then take State Rte 652/Mo
 untain Pass Rd to US-221 N/US-460 E/Blue Ridge Blvd in Blue Ridge. Turn le
 ft onto US-221 N/US-460 E/Blue Ridge Blvd. Drive to State Rte 617 and the 
 farm will be on your right.
CATEGORIES:Festival
LOCATION:Chapel Creek Farms\, 4915 Pike Rd\, Montvale \, Virginia\, 24122\,
  Bedford\, United States
GEO:37.434164;-79.710591
X-APPLE-STRUCTURED-LOCATION;VALUE=URI;X-ADDRESS=4915 Pike Rd\, Montvale \, 
 Virginia\, 24122\, Bedford\, United States;X-APPLE-RADIUS=100;X-TITLE=Chap
 el Creek Farms:geo:37.434164,-79.710591
END:VEVENT
BEGIN:VTIMEZONE
TZID:America/New_York
X-LIC-LOCATION:America/New_York
BEGIN:DAYLIGHT
DTSTART:20230312T030000
TZOFFSETFROM:-0500
TZOFFSETTO:-0400
TZNAME:EDT
END:DAYLIGHT
END:VTIMEZONE
END:VCALENDAR