BEGIN:VCALENDAR
VERSION:2.0
PRODID:-//wp-events-plugin.com//7.2.3.1//EN
BEGIN:VEVENT
UID:5734@blueridgemusic.org
DTSTART;TZID=America/New_York:20371003T090000
DTEND;TZID=America/New_York:20371003T180000
DTSTAMP:20250523T185439Z
URL:https://blueridgemusic.org/events/clifford-ruritan-sorghum-festival-20
 37-10-03/
SUMMARY:Clifford Ruritan Sorghum Festival
DESCRIPTION:The Clifford Ruritan Club hosts its annual Sorghum Festival on 
 the 1st Saturday of every October as a fundraiser for their community. The
  festival is filled with craft and other vendors\, live music\, food\, and
  much more.\n\nPhone: 434-826-1163\nEmail: cliffordruritan@gmail.com\nURL
 : https://regionalas.wixsite.com/cliffordruritan\n\nHours: 1st Saturday o
 f October\, 9am - 6pm
CATEGORIES:Festival
LOCATION:Clifford Ruritan Club\, 755 Fletcher Level Road\, Clifford \, Virg
 inia\, 24533\, United States
GEO:37.62501;-79.199484
X-APPLE-STRUCTURED-LOCATION;VALUE=URI;X-ADDRESS=755 Fletcher Level Road\, C
 lifford \, Virginia\, 24533\, United States;X-APPLE-RADIUS=100;X-TITLE=Cli
 fford Ruritan Club:geo:37.62501,-79.199484
END:VEVENT
BEGIN:VTIMEZONE
TZID:America/New_York
X-LIC-LOCATION:America/New_York
BEGIN:DAYLIGHT
DTSTART:20370308T030000
TZOFFSETFROM:-0500
TZOFFSETTO:-0400
TZNAME:EDT
END:DAYLIGHT
END:VTIMEZONE
END:VCALENDAR