BEGIN:VCALENDAR
VERSION:2.0
PRODID:-//wp-events-plugin.com//7.2.3.1//EN
BEGIN:VEVENT
UID:5804@blueridgemusic.org
DTSTART;TZID=America/New_York:20251018T090000
DTEND;TZID=America/New_York:20251019T170000
DTSTAMP:20250527T204406Z
URL:https://blueridgemusic.org/events/drumhellers-orchard-apple-festival-2
 /
SUMMARY:Drumheller's Orchard Apple Festival
DESCRIPTION:Drumheller’s Orchard’s Annual Apple Festival happens twice 
 a year\, always on the last weekend of September and the 3rd weekend of Oc
 tober. They have apples\, apple butter\, apple cider\, baked goods\, baske
 ts\, cookbooks\, and vendors who sell a plethora of things during the fest
 ivals. There are also hayrides\, a kid zone\, live music\, food\, and much
  more!\n\nEmail: info@drumhellersorchard.com\nPhone: 434-263-5036\n\nURL
 : Drumheller’s Orchard\n\nHours: Last weekend of September and 3rd wee
 kend of October\, 9am – 5pm
CATEGORIES:Festival
LOCATION:Drumheller's Orchard\, 1130 Drumheller Orchard Lane\, Lovingston\,
  Virginia\, 22949\, United States
X-APPLE-STRUCTURED-LOCATION;VALUE=URI;X-ADDRESS=1130 Drumheller Orchard Lan
 e\, Lovingston\, Virginia\, 22949\, United States;X-APPLE-RADIUS=100;X-TIT
 LE=Drumheller's Orchard:geo:0,0
END:VEVENT
BEGIN:VTIMEZONE
TZID:America/New_York
X-LIC-LOCATION:America/New_York
BEGIN:DAYLIGHT
DTSTART:20250309T030000
TZOFFSETFROM:-0500
TZOFFSETTO:-0400
TZNAME:EDT
END:DAYLIGHT
END:VTIMEZONE
END:VCALENDAR