BEGIN:VCALENDAR
VERSION:2.0
PRODID:-//wp-events-plugin.com//7.2.3.1//EN
BEGIN:VEVENT
UID:5877@blueridgemusic.org
DTSTART;TZID=America/New_York:20260424T183000
DTEND;TZID=America/New_York:20260424T223000
DTSTAMP:20250603T193610Z
URL:https://blueridgemusic.org/events/floyd-country-store-friday-night-jam
 boree-2026-04-24/
SUMMARY:Friday Night Jamboree
DESCRIPTION:The Friday Night Jamboree is held every Friday night at the Flo
 yd Country Store‚ and bluegrass concerts are staged periodically on Satu
 rday nights. These events are worthy tributes to old-time and bluegrass mu
 sic and to mountain dance. Many of those who attend the Friday Night Jambo
 ree are regulars‚ but the Jamboree also gets visitors every week from ac
 ross the country. The Friday evening jam sessions begin with an hour of go
 spel music performed by a group of local old-timers‚ and then various ba
 nds take turns playing onstage. Often musicians jam in the parking lot‚ 
 and the audience sometimes flows over into the street on summer nights. Th
 e Jamboree is a kind of happening that is hard to find anymore – musicia
 ns coming together to play just for the love of the music\, and people get
 ting together just for the fun of it. It’s an experience you won’t soo
 n forget. General admission is $10.00\, children 7-12 are $7.00\, and chil
 dren under 6 are free\; tickets are available at the door at 4:45pm.\n\nPh
 one: 540-745-4563\nEmail: info@floydcountrystore.com\nURL: http://www.f
 loydcountrystore.com/\nHours: 6:30pm-10:30pm
CATEGORIES:Jam Session
LOCATION:Floyd Country Store\, 206 South Locust Street\, Floyd\, Virginia\,
  24091\, United States
X-APPLE-STRUCTURED-LOCATION;VALUE=URI;X-ADDRESS=206 South Locust Street\, F
 loyd\, Virginia\, 24091\, United States;X-APPLE-RADIUS=100;X-TITLE=Floyd C
 ountry Store:geo:0,0
END:VEVENT
BEGIN:VTIMEZONE
TZID:America/New_York
X-LIC-LOCATION:America/New_York
BEGIN:DAYLIGHT
DTSTART:20260308T030000
TZOFFSETFROM:-0500
TZOFFSETTO:-0400
TZNAME:EDT
END:DAYLIGHT
END:VTIMEZONE
END:VCALENDAR