BEGIN:VCALENDAR
VERSION:2.0
PRODID:-//wp-events-plugin.com//7.2.3.1//EN
BEGIN:VEVENT
UID:15250@blueridgemusic.org
DTSTART;TZID=America/New_York:20250813T170000
DTEND;TZID=America/New_York:20250816T220000
DTSTAMP:20250613T183526Z
URL:https://blueridgemusic.org/events/franklin-county-agricultural-fair/
SUMMARY:Franklin County Agricultural Fair
DESCRIPTION:Experience the excitement of tractor competitions\, midway ride
 s\, music concerts\, live entertainment\, competitive and educational exhi
 bits\, demonstrations\, animal shows\, petting zoo\, fair pageant\, contes
 ts\, games\, food\, and fun – lots of fun – at the Franklin County Agr
 icultural Fair! Gate admission is as follows: $5.00 for 6-17 year-olds\, $
 10.00 for 18-64 year-olds\, and free admission for people 5 yrs or younger
  and 65+. Ride wristbands are $10.00 a wristband (all ages).\n\nPhone: 54
 0-483-3030\nEmail: info@fcagfair.com\nURL: Franklin County Agricultural F
 air | It's Fair Time! Aug. 13-16\, 2025\nHours: August 13th - 15th: 5pm - 
 10pm\; August 16th: 12pm - 10pm
CATEGORIES:Fair
LOCATION:Franklin County Recreation Park\, 2150 Sontag Road\, Rocky Mount\,
  VA\, 24151\, United States
X-APPLE-STRUCTURED-LOCATION;VALUE=URI;X-ADDRESS=2150 Sontag Road\, Rocky Mo
 unt\, VA\, 24151\, United States;X-APPLE-RADIUS=100;X-TITLE=Franklin Count
 y Recreation Park:geo:0,0
END:VEVENT
BEGIN:VTIMEZONE
TZID:America/New_York
X-LIC-LOCATION:America/New_York
BEGIN:DAYLIGHT
DTSTART:20250309T030000
TZOFFSETFROM:-0500
TZOFFSETTO:-0400
TZNAME:EDT
END:DAYLIGHT
END:VTIMEZONE
END:VCALENDAR