BEGIN:VCALENDAR
VERSION:2.0
PRODID:-//wp-events-plugin.com//7.2.3.1//EN
BEGIN:VEVENT
UID:18527@blueridgemusic.org
DTSTART;TZID=America/New_York:20250828T090000
DTEND;TZID=America/New_York:20250831T223000
DTSTAMP:20250617T201044Z
URL:https://blueridgemusic.org/events/front-porch-fest/
SUMMARY:Front Porch Fest
DESCRIPTION:Get ready to experience the magic at the Front Porch Fest\, whi
 ch brings some of the best in live music from local talents and renowned a
 rtists. From folk and blues to indie and rock\, Front Porch Fest has it al
 l\, promising an unforgettable musical journey that will have you dancing 
 all day and night! Expect live music from talented musicians\, great food\
 , games and activities\, local artisans\, and so much more! To purchase ti
 ckets\, see the 2025 lineup\, or for more information\, visit their websit
 e linked below.\n\nURL: Front Porch Fest\nHours: Thursday: gates open at 1
 pm     Friday - Sunday: gates open at 9am
CATEGORIES:Festival
LOCATION:Spirithaven Farm\, 677 Spirithaven Lane\, Stuart\, Virginia\, 2417
 1\, United States
X-APPLE-STRUCTURED-LOCATION;VALUE=URI;X-ADDRESS=677 Spirithaven Lane\, Stua
 rt\, Virginia\, 24171\, United States;X-APPLE-RADIUS=100;X-TITLE=Spirithav
 en Farm:geo:0,0
END:VEVENT
BEGIN:VTIMEZONE
TZID:America/New_York
X-LIC-LOCATION:America/New_York
BEGIN:DAYLIGHT
DTSTART:20250309T030000
TZOFFSETFROM:-0500
TZOFFSETTO:-0400
TZNAME:EDT
END:DAYLIGHT
END:VTIMEZONE
END:VCALENDAR