BEGIN:VCALENDAR
VERSION:2.0
PRODID:-//wp-events-plugin.com//7.2.3.1//EN
BEGIN:VEVENT
UID:23255@blueridgemusic.org
DTSTART;TZID=America/New_York:20250927T100000
DTEND;TZID=America/New_York:20250928T170000
DTSTAMP:20250625T171503Z
URL:https://blueridgemusic.org/events/grayson-highlands-fall-festival-2/
SUMMARY:Grayson Highlands Fall Festival
DESCRIPTION:Step back into a simple age when horses and mules ground cane i
 nto juice to be boiled into sorghum or molasses\; when apple cider was the
  soft drink of the time\; when fresh apples were cooked in a copper kettle
  over an open fire all day long to render apple butter\; when Saturday nig
 ht was reserved for fiddling\; and making music with the neighbors. Such w
 as the lifestyle of the early Appalachian pioneers\, and it can be experie
 nced again at the Grayson Highlands Fall Festival. With live music\, good 
 food\, and a multitude of different vendors\, the festival is an experienc
 e you won't forget.\n\nPhone: 276-233-8237\nEmail: ghfallfestival@yahoo.co
 m\nURL: Grayson Highlands Fall Festival  \n\nHours: 10am - 5pm\n\n&nbsp\
 ;
CATEGORIES:Festival
LOCATION:Grayson Highlands State Park\, 829 Grayson Highland Lane\, Mouth o
 f Wilson\, Virginia\, 24363\, United States
X-APPLE-STRUCTURED-LOCATION;VALUE=URI;X-ADDRESS=829 Grayson Highland Lane\,
  Mouth of Wilson\, Virginia\, 24363\, United States;X-APPLE-RADIUS=100;X-T
 ITLE=Grayson Highlands State Park:geo:0,0
END:VEVENT
BEGIN:VTIMEZONE
TZID:America/New_York
X-LIC-LOCATION:America/New_York
BEGIN:DAYLIGHT
DTSTART:20250309T030000
TZOFFSETFROM:-0500
TZOFFSETTO:-0400
TZNAME:EDT
END:DAYLIGHT
END:VTIMEZONE
END:VCALENDAR