BEGIN:VCALENDAR
VERSION:2.0
PRODID:-//wp-events-plugin.com//7.2.3.1//EN
BEGIN:VEVENT
UID:23297@blueridgemusic.org
DTSTART;TZID=America/New_York:20260319T190000
DTEND;TZID=America/New_York:20260319T210000
DTSTAMP:20250625T201105Z
URL:https://blueridgemusic.org/events/historic-fries-theater-thursday-nigh
 t-jam-2025-06-26-2025-07-03-2025-07-10-2025-07-17-2025-07-24-2025-07-31-20
 25-08-07-2025-08-14-2025-08-21-2025-08-28-2025-09-04-2025-09-11-2025-09-18
 -2-12-2026-03-19/
SUMMARY:Historic Fries Theater Thursday Night Jam
DESCRIPTION:Folks from all over the world find their way to the historic Fr
 ies Theatre for the weekly Thursday night jams. All visitors are welcome t
 o mingle with the local residents who gather for a relaxing evening of old
 -time music and fellowship. Bring a banjo\, dulcimer\, guitar\, fiddle\, o
 r bass\, and join in the music circle. And there’s dancing all evening. 
 If you don’t know the traditional two-step waltz\, just ask and someone 
 will help. The jams are for all ages. Doors open every Thursday at 6 p.m. 
 and the music runs from 7 – 9 p.m. During a break\, around 8 p.m.\, ther
 e’s a real cake walk and the winner in this jolly tradition takes home a
  cake or other baked treat.\n\nEmail: theatre@friesva.com\nURL: The Histor
 ic Fries Theatre | Fries VA | Facebook\n\nHours: Doors open at 6pm. Jam g
 oes from 7pm - 9pm.
CATEGORIES:Jam Session
LOCATION:Historic Fries Theater\, 316 W. Main Street\, Fries\, Virginia\, 2
 4330\, United States
X-APPLE-STRUCTURED-LOCATION;VALUE=URI;X-ADDRESS=316 W. Main Street\, Fries\
 , Virginia\, 24330\, United States;X-APPLE-RADIUS=100;X-TITLE=Historic Fri
 es Theater:geo:0,0
END:VEVENT
BEGIN:VTIMEZONE
TZID:America/New_York
X-LIC-LOCATION:America/New_York
BEGIN:DAYLIGHT
DTSTART:20260308T030000
TZOFFSETFROM:-0500
TZOFFSETTO:-0400
TZNAME:EDT
END:DAYLIGHT
END:VTIMEZONE
END:VCALENDAR