BEGIN:VCALENDAR
VERSION:2.0
PRODID:-//wp-events-plugin.com//7.2.3.1//EN
BEGIN:VEVENT
UID:11210@blueridgemusic.org
DTSTART;TZID=America/New_York:20260326T190000
DTEND;TZID=America/New_York:20260326T210000
DTSTAMP:20250610T152040Z
URL:https://blueridgemusic.org/events/honky-tonk-thursdays-2026-03-26/
SUMMARY:Honky Tonk Thursdays
DESCRIPTION:Join The Floyd Country Store for Honky Tonk Thursday: A Night o
 f Live Music and Dancing! Put on your dancing boots and get ready to scoot
  across the dance floor! The Floyd Country Store invites you to enjoy a ni
 ght of foot-stompin’ fun with live music\, featuring many great local mu
 sicians and bands. Admission is free.\n\nPhone: 540-745-4563\nEmail: inf
 o@floydcountrystore.com\nURL: http://www.floydcountrystore.com/\nHours: 7
 pm - 9pm
CATEGORIES:Gathering
LOCATION:Floyd Country Store\, 206 South Locust Street\, Floyd\, Virginia\,
  24091\, United States
X-APPLE-STRUCTURED-LOCATION;VALUE=URI;X-ADDRESS=206 South Locust Street\, F
 loyd\, Virginia\, 24091\, United States;X-APPLE-RADIUS=100;X-TITLE=Floyd C
 ountry Store:geo:0,0
END:VEVENT
BEGIN:VTIMEZONE
TZID:America/New_York
X-LIC-LOCATION:America/New_York
BEGIN:DAYLIGHT
DTSTART:20260308T030000
TZOFFSETFROM:-0500
TZOFFSETTO:-0400
TZNAME:EDT
END:DAYLIGHT
END:VTIMEZONE
END:VCALENDAR