BEGIN:VCALENDAR
VERSION:2.0
PRODID:-//wp-events-plugin.com//7.2.3.1//EN
BEGIN:VEVENT
UID:5702@blueridgemusic.org
DTSTART;TZID=America/New_York:20281109T180000
DTEND;TZID=America/New_York:20281109T200000
DTSTAMP:20250523T180427Z
URL:https://blueridgemusic.org/events/james-river-bluegrass-association-ja
 m-session-2028-11-09/
SUMMARY:James River Bluegrass Association Jam Session
DESCRIPTION:\n\nThis monthly gathering is part membership meeting and part 
 informal bluegrass jam session. Visitors are welcome‚ and the first visi
 t is free. Admission for non-members is $15 per person. The JMBA also hold
 s monthly concerts (see their web site for details) and members get a disc
 ount off the ticket price at the door. To contact them\, visit their websi
 te for details.\n\n\nURL: James River Bluegrass Association\n\nShow Hours:
  Doors open at 6pm - Show starts at 7pm
CATEGORIES:Jam Session
LOCATION:Madison Heights Community Center\, 424 Woodys Lake Road \, Madison
  Heights\, Virginia\, 24572\, Amherst\, United States
GEO:37.457114;-79.106475
X-APPLE-STRUCTURED-LOCATION;VALUE=URI;X-ADDRESS=424 Woodys Lake Road \, Mad
 ison Heights\, Virginia\, 24572\, Amherst\, United States;X-APPLE-RADIUS=1
 00;X-TITLE=Madison Heights Community Center:geo:37.457114,-79.106475
END:VEVENT
BEGIN:VTIMEZONE
TZID:America/New_York
X-LIC-LOCATION:America/New_York
BEGIN:STANDARD
DTSTART:20281105T010000
TZOFFSETFROM:-0400
TZOFFSETTO:-0500
TZNAME:EST
END:STANDARD
END:VTIMEZONE
END:VCALENDAR