BEGIN:VCALENDAR
VERSION:2.0
PRODID:-//wp-events-plugin.com//7.2.3.1//EN
BEGIN:VEVENT
UID:342@blueridgemusic.org
DTSTART;TZID=America/New_York:20250619T110000
DTEND;TZID=America/New_York:20250622T160000
DTSTAMP:20250613T181140Z
URL:https://blueridgemusic.org/events/juneteenth-celebration/
SUMMARY:Juneteenth Celebration of Freedom
DESCRIPTION:On April 5‚ 1856‚ Booker T. Washington was born a slave on 
 the 207-acre farm of James Burroughs. After the Civil War‚ Washington be
 came the first principal of Tuskegee Normal and Industrial School. Later a
 s an adviser‚ author and orator‚ his past would influence his philosop
 hies as the most influential African American of his era. Join in the fest
 ivities as the community comes together to celebrate one of the most impor
 tant moments in our nation’s history - the moment of emancipation.\nThur
 sday and Friday will feature a series of guided programming highlighting W
 ashington’s childhood experiences while enslaved on the Burrough’s tob
 acco plantation. On Saturday the 21st\, the Juneteenth Celebration of Free
 dom will begin at 11am\, with gospel groups\, educational programming\, an
 d food vendors throughout the day. The event concludes on Sunday with a se
 ries of guided programming\, including a performance on a gut-string banjo
  while discussing the African origins of the “banjar” and its connecti
 on to Southside Virginia.\n\nPhone: 540-683-0173\nURL: https://www.nps.g
 ov/bowa/index.htm\nHours: 11am - 4pm\n\n
CATEGORIES:Festival
LOCATION:Booker T. Washington National Monument\, 12130 Booker T Washington
  Hwy\, Hardy\, VA\, 24101\, United States
X-APPLE-STRUCTURED-LOCATION;VALUE=URI;X-ADDRESS=12130 Booker T Washington H
 wy\, Hardy\, VA\, 24101\, United States;X-APPLE-RADIUS=100;X-TITLE=Booker 
 T. Washington National Monument:geo:0,0
END:VEVENT
BEGIN:VTIMEZONE
TZID:America/New_York
X-LIC-LOCATION:America/New_York
BEGIN:DAYLIGHT
DTSTART:20250309T030000
TZOFFSETFROM:-0500
TZOFFSETTO:-0400
TZNAME:EDT
END:DAYLIGHT
END:VTIMEZONE
END:VCALENDAR