BEGIN:VCALENDAR
VERSION:2.0
PRODID:-//wp-events-plugin.com//7.2.3.1//EN
BEGIN:VEVENT
UID:385@blueridgemusic.org
DTSTART;TZID=America/New_York:20240921T090000
DTEND;TZID=America/New_York:20240921T160000
DTSTAMP:20240611T183849Z
URL:https://blueridgemusic.org/events/kiwanis-wilderness-trail-festival/
SUMMARY:Kiwanis Wilderness Trail Festival
DESCRIPTION:The festival is always a full day of fun and excitement for the
  entire family loaded with great local music‚ including bluegrass on two
  stages‚ artisans and crafters‚ "Blue Ridge Model A’s and Car Cruise
 -In" featuring classic cars &amp\; street rods‚ a children’s area‚ c
 raft demonstrators‚ and delicious food from area restaurants and other l
 ocal vendors.\nPhone: 540-239-7058\nEmail: wildernesstrailfestival@gmail
 .com\nURL: http://www.wildernesstrailfestival.com/\nHours: 9 a.m.-4 p.m.\
 n\nDirections:\nThe Kiwanis Wilderness Trail Festival takes place in downt
 own Christiansburg‚ Exit 114 off I-81. Directions from Interstate 81: No
 rthbound: Take exit 114 &amp\; turn LEFT onto West Main Street. Southbound
 : Take exit 114 &amp\; turn RIGHT onto West Main Street.
CATEGORIES:Festival
LOCATION:Downtown Christiansburg\, 13 West Main Street\, Christiansburg\, V
 A\, 24068\, United States
X-APPLE-STRUCTURED-LOCATION;VALUE=URI;X-ADDRESS=13 West Main Street\, Chris
 tiansburg\, VA\, 24068\, United States;X-APPLE-RADIUS=100;X-TITLE=Downtown
  Christiansburg:geo:0,0
END:VEVENT
BEGIN:VTIMEZONE
TZID:America/New_York
X-LIC-LOCATION:America/New_York
BEGIN:DAYLIGHT
DTSTART:20240310T030000
TZOFFSETFROM:-0500
TZOFFSETTO:-0400
TZNAME:EDT
END:DAYLIGHT
END:VTIMEZONE
END:VCALENDAR