BEGIN:VCALENDAR
VERSION:2.0
PRODID:-//wp-events-plugin.com//7.2.3.1//EN
BEGIN:VEVENT
UID:19366@blueridgemusic.org
DTSTART;TZID=America/New_York:20260424T180000
DTEND;TZID=America/New_York:20260424T210000
DTSTAMP:20250623T151333Z
URL:https://blueridgemusic.org/events/lambsburg-community-center-jam-2025-
 06-27-2025-07-04-2025-07-11-2025-07-18-2025-07-25-2025-08-01-2025-08-08-20
 25-08-15-2025-08-22-2025-08-29-2025-09-05-2025-09-12-2025-09-19-2025-09-26
 -2-17-2026-04-24/
SUMMARY:Lambsburg Community Center Jam
DESCRIPTION:Local Lambsburg residents saved their old school building and c
 onverted it into a valuable community center that allows gatherings like t
 his jam session. Since 2007‚ these "open jams" welcome folks playing blu
 egrass‚ gospel and old-time‚ with a little country music thrown in for
  luck! Concessions are available to assist in keeping the center open and 
 there is even a playground for the youngsters--and young at heart!\n\n&nbs
 p\;\n\nPhone: 336-648-2078\nEmail: LCC@Lambsburgcommunitycenter.com\n\nUR
 L: Lambsburg Community Center\n\nHours: 6pm - 9pm
CATEGORIES:Jam Session
LOCATION:Lambsburg Community Center\, 130 Learning Lane\, Lambsburg\, VA\, 
 24351\, United States
X-APPLE-STRUCTURED-LOCATION;VALUE=URI;X-ADDRESS=130 Learning Lane\, Lambsbu
 rg\, VA\, 24351\, United States;X-APPLE-RADIUS=100;X-TITLE=Lambsburg Commu
 nity Center:geo:0,0
END:VEVENT
BEGIN:VTIMEZONE
TZID:America/New_York
X-LIC-LOCATION:America/New_York
BEGIN:DAYLIGHT
DTSTART:20260308T030000
TZOFFSETFROM:-0500
TZOFFSETTO:-0400
TZNAME:EDT
END:DAYLIGHT
END:VTIMEZONE
END:VCALENDAR