BEGIN:VCALENDAR
VERSION:2.0
PRODID:-//wp-events-plugin.com//7.2.3.1//EN
BEGIN:VEVENT
UID:353@blueridgemusic.org
DTSTART;TZID=America/New_York:20241019T100000
DTEND;TZID=America/New_York:20241019T140000
DTSTAMP:20240605T175908Z
URL:https://blueridgemusic.org/events/mountain-foliage-festival-and-grand-
 privy-races/
SUMMARY:Mountain Foliage Festival and Grand Privy Races
DESCRIPTION:On the second Saturday in October‚ the streets surrounding th
 e historic 1908 Courthouse square in Independence come alive with a celebr
 ation of the colorful leaves of autumn. Held at the height of the fall col
 or season‚ the celebration includes a parade‚ music‚ arts and crafts
 ‚ and best of all‚ the Grand Privy Race. (Yes‚ they race outhouses!)
 .\n\nPhone: (276) 773-3711\nEmail: 1908courthouse@gmail.com\nURL: https:
 //www.graysoncountyva.com/event/mountain-foliage-festival-and-grand-privy-
 race/\nHours: 10:00am-4:00pm\n\nDirections:\nThe town of Independence is l
 ocated at the intersection of US 58/221 and US 21/221.
CATEGORIES:Festival
END:VEVENT
BEGIN:VTIMEZONE
TZID:America/New_York
X-LIC-LOCATION:America/New_York
BEGIN:DAYLIGHT
DTSTART:20240310T030000
TZOFFSETFROM:-0500
TZOFFSETTO:-0400
TZNAME:EDT
END:DAYLIGHT
END:VTIMEZONE
END:VCALENDAR