BEGIN:VCALENDAR
VERSION:2.0
PRODID:-//wp-events-plugin.com//7.2.3.1//EN
BEGIN:VEVENT
UID:20634@blueridgemusic.org
DTSTART;TZID=America/New_York:20251011T100000
DTEND;TZID=America/New_York:20251011T150000
DTSTAMP:20250623T181712Z
URL:https://blueridgemusic.org/events/mountain-foliage-festival-grand-priv
 y-races/
SUMMARY:Mountain Foliage Festival & Grand Privy Races
DESCRIPTION:A sporting event like no other…. The Grand Privy Races start 
 at 11 am in front of the Historic 1908 Courthouse where teams compete by r
 acing their homebuilt Privy (aka - Outhouse) down Main Street in Independe
 nce. Largest Homegrown Pumpkin Contest\, Pie Bake off and a Toilet Paper T
 oss round out the competitions while local food trucks\, musicians\, and g
 reat artisans and crafters surround the Historic 1908 square for a day ful
 l of local\, hometown fun.\n\nPhone: 276-773-3703\nURL: Town of Independen
 ce\n\nHours: October 11th\, 10am - 3pm
CATEGORIES:Festival
LOCATION:Historic 1908 Courthouse\, 107 East Main Street\, Independence\, V
 irginia\, 24348\, United States
X-APPLE-STRUCTURED-LOCATION;VALUE=URI;X-ADDRESS=107 East Main Street\, Inde
 pendence\, Virginia\, 24348\, United States;X-APPLE-RADIUS=100;X-TITLE=His
 toric 1908 Courthouse:geo:0,0
END:VEVENT
BEGIN:VTIMEZONE
TZID:America/New_York
X-LIC-LOCATION:America/New_York
BEGIN:DAYLIGHT
DTSTART:20250309T030000
TZOFFSETFROM:-0500
TZOFFSETTO:-0400
TZNAME:EDT
END:DAYLIGHT
END:VTIMEZONE
END:VCALENDAR