BEGIN:VCALENDAR
VERSION:2.0
PRODID:-//wp-events-plugin.com//7.2.3.1//EN
BEGIN:VEVENT
UID:5775@blueridgemusic.org
DTSTART;TZID=America/New_York:20251004T100000
DTEND;TZID=America/New_York:20251004T160000
DTSTAMP:20250527T193134Z
URL:https://blueridgemusic.org/events/mountain-magic-in-the-fall/
SUMMARY:Mountain Magic in the Fall
DESCRIPTION:Experience the magic of small-town America during Buchanan’s 
 annual Mountain Magic in the Fall Bluegrass\, Antiques &amp\; Crafts Festi
 val and Car Show. Mountain Magic in Fall showcases the Town’s historic r
 oots along Main Street where you will find antiques\, arts\, collectibles 
 as well as restaurants offering good old fashioned southern cooking\, pizz
 a and burgers. Vendors on the Town’s waterfront park show and sell a lit
 tle bit of something for everyone. You will find vendors offering candles\
 , knitted and crocheted items\, wood crafts\, furniture\, glass\, birdhous
 es\, antiques\, art\, local honey\, pumpkins\, apples\, food and more.\n\n
 URL: Mountain Magic In The Fall | Buchanan VA\n\nHours: Saturday\, Octob
 er 4th\, 10am - 4pm (hours are subject to change)
CATEGORIES:Festival
LOCATION:Buchanan Town Park\, 485 Lowe Street\, Buchanan\, Virginia\, 24066
 \, United States
X-APPLE-STRUCTURED-LOCATION;VALUE=URI;X-ADDRESS=485 Lowe Street\, Buchanan\
 , Virginia\, 24066\, United States;X-APPLE-RADIUS=100;X-TITLE=Buchanan Tow
 n Park:geo:0,0
END:VEVENT
BEGIN:VTIMEZONE
TZID:America/New_York
X-LIC-LOCATION:America/New_York
BEGIN:DAYLIGHT
DTSTART:20250309T030000
TZOFFSETFROM:-0500
TZOFFSETTO:-0400
TZNAME:EDT
END:DAYLIGHT
END:VTIMEZONE
END:VCALENDAR