BEGIN:VCALENDAR
VERSION:2.0
PRODID:-//wp-events-plugin.com//7.2.3.1//EN
BEGIN:VEVENT
UID:18234@blueridgemusic.org
DTSTART;TZID=America/New_York:20260313T170000
DTEND;TZID=America/New_York:20260313T210000
DTSTAMP:20250616T190456Z
URL:https://blueridgemusic.org/events/music-night-at-the-spencer-penn-cent
 re-2026-03-13/
SUMMARY:Music Night at the Spencer-Penn Centre
DESCRIPTION:Every month the Spencer-Penn Centre opens their doors for a nig
 ht of Bluegrass\, old time\, and gospel music. The floor is filled with da
 ncers\, flatfooting and clogging the night away. Doors open at 5pm\, and t
 heir kitchen is open so you can enjoy supper before the music starts at 6:
 30pm! Admission is $5 a person.\n\nPhone: 276-957-5757\nEmail: spencerpenn
 04@gmail.com\nURL: The Spencer-Penn Centre\, Spencer VA\nHours: Doors open
  at 5pm\, music starts at 6:30pm
CATEGORIES:Gathering
END:VEVENT
BEGIN:VTIMEZONE
TZID:America/New_York
X-LIC-LOCATION:America/New_York
BEGIN:DAYLIGHT
DTSTART:20260308T030000
TZOFFSETFROM:-0500
TZOFFSETTO:-0400
TZNAME:EDT
END:DAYLIGHT
END:VTIMEZONE
END:VCALENDAR