BEGIN:VCALENDAR
VERSION:2.0
PRODID:-//wp-events-plugin.com//7.2.3.1//EN
BEGIN:VEVENT
UID:5809@blueridgemusic.org
DTSTART;TZID=America/New_York:20250917T100000
DTEND;TZID=America/New_York:20250920T210000
DTSTAMP:20250531T195141Z
URL:https://blueridgemusic.org/events/nothin-fancy-bluegrass-festival-2/
SUMMARY:Nothin' Fancy Bluegrass Festival
DESCRIPTION:Nothin' Fancy is a bluegrass band that hosts their own 3-day fe
 stival every year\, full of bluegrass and county music performances! Thurs
 day through Saturday features the festival's lineups\, and Wednesday featu
 res a golf cart poker run and a corn hole tournament to kick off the festi
 val. Tickets for the festival can be bought on their website\, linked belo
 w.\n\nURL: https://www.nothinfancybluegrass.com/default.asp?loadpage=festi
 val\nHours: Wednesday\, September 17th - Saturday\, September 20th: 10am -
  9pm
CATEGORIES:Festival
LOCATION:Glen Maury Park\,  101 Maury River Drive\, Buena Vista\, VA\, 2441
 6\, United States
X-APPLE-STRUCTURED-LOCATION;VALUE=URI;X-ADDRESS= 101 Maury River Drive\, Bu
 ena Vista\, VA\, 24416\, United States;X-APPLE-RADIUS=100;X-TITLE=Glen Mau
 ry Park:geo:0,0
END:VEVENT
BEGIN:VTIMEZONE
TZID:America/New_York
X-LIC-LOCATION:America/New_York
BEGIN:DAYLIGHT
DTSTART:20250309T030000
TZOFFSETFROM:-0500
TZOFFSETTO:-0400
TZNAME:EDT
END:DAYLIGHT
END:VTIMEZONE
END:VCALENDAR