BEGIN:VCALENDAR
VERSION:2.0
PRODID:-//wp-events-plugin.com//7.2.3.1//EN
BEGIN:VEVENT
UID:512@blueridgemusic.org
DTSTART;TZID=America/New_York:20240809T180000
DTEND;TZID=America/New_York:20240809T210000
DTSTAMP:20240530T152900Z
URL:https://blueridgemusic.org/events/oak-grove-folk-music-festival-3/
SUMMARY:Oak Grove Folk Music Festival
DESCRIPTION:Theater Wagon of Virginia hosts an annual music festival at the
  Oak Grove Theater specializing in music played by outstanding regional tr
 aditional musicians and in music workshops for those who are learning to p
 lay. This festival has been going on since 1979.\nPhone: 540-885-3000\nUR
 L: http://www.oakgrovefestival.com\nHours: all day\n\nDirections:\nFrom I
 nterstate 81 take exit 227. From the exit‚ go west on Route 612 followin
 g signs for Verona. Crossing US 11‚ the road becomes Quicks Mill Road. S
 tay on Route 612‚ Quicks Mill Road‚ through the town and approximately
  2 miles further‚ over a big hill‚ through a crossroads‚ and up a se
 cond hill. There is a wooded area on the right. That is the Oak Grove. Tur
 n right into the theater entrance.\n&nbsp\;
CATEGORIES:Festival
LOCATION:Oak Grove Theatre\, 845 Quicks Mill Road \, Staunton\, Virginia\, 
 24401\, Augusta\, United States
GEO:38.215069;-79.039122
X-APPLE-STRUCTURED-LOCATION;VALUE=URI;X-ADDRESS=845 Quicks Mill Road \, Sta
 unton\, Virginia\, 24401\, Augusta\, United States;X-APPLE-RADIUS=100;X-TI
 TLE=Oak Grove Theatre:geo:38.215069,-79.039122
END:VEVENT
BEGIN:VTIMEZONE
TZID:America/New_York
X-LIC-LOCATION:America/New_York
BEGIN:DAYLIGHT
DTSTART:20240310T030000
TZOFFSETFROM:-0500
TZOFFSETTO:-0400
TZNAME:EDT
END:DAYLIGHT
END:VTIMEZONE
END:VCALENDAR