BEGIN:VCALENDAR
VERSION:2.0
PRODID:-//wp-events-plugin.com//7.2.3.1//EN
BEGIN:VEVENT
UID:5757@blueridgemusic.org
DTSTART;TZID=America/New_York:20250822T100000
DTEND;TZID=America/New_York:20250824T193000
DTSTAMP:20250523T202717Z
URL:https://blueridgemusic.org/events/oak-grove-folk-music-festival-4/
SUMMARY:Oak Grove Folk Music Festival
DESCRIPTION:The Annual Oak Grove Folk Music Festival features three days of
  fantastic folk and acoustic music. Multiple concerts\, workshops\, open m
 ics\, and jams are some of the events that make up this three-day festival
 . Parking is free\, but tickets must be bought for admission (see website 
 for details). Come and see all of the amazing performers and be surrounded
  by good music\, good food\, and a lively atmosphere!\n\nURL: Oak Grove Fo
 lk Music Festival \n\nHours:\nFriday\, August 22nd: Gates open at 6pm - p
 erformances start at 7:30pm\nSaturday\, August 23rd: Gates open at 10am - 
 events start at 10:30am and continue until the evening concert at 7:30pm\n
 Sunday\, August 24th: Gates open at 10am - events start at 10:30am and con
 tinue until the afternoon concert at 1:30pm\n\n&nbsp\;
CATEGORIES:Festival
LOCATION:Oak Grove Theatre\, 845 Quicks Mill Road \, Staunton\, Virginia\, 
 24401\, Augusta\, United States
GEO:38.215069;-79.039122
X-APPLE-STRUCTURED-LOCATION;VALUE=URI;X-ADDRESS=845 Quicks Mill Road \, Sta
 unton\, Virginia\, 24401\, Augusta\, United States;X-APPLE-RADIUS=100;X-TI
 TLE=Oak Grove Theatre:geo:38.215069,-79.039122
END:VEVENT
BEGIN:VTIMEZONE
TZID:America/New_York
X-LIC-LOCATION:America/New_York
BEGIN:DAYLIGHT
DTSTART:20250309T030000
TZOFFSETFROM:-0500
TZOFFSETTO:-0400
TZNAME:EDT
END:DAYLIGHT
END:VTIMEZONE
END:VCALENDAR