BEGIN:VCALENDAR
VERSION:2.0
PRODID:-//wp-events-plugin.com//7.2.3.1//EN
BEGIN:VEVENT
UID:344@blueridgemusic.org
DTSTART;TZID=America/New_York:20240608T150000
DTEND;TZID=America/New_York:20240608T193000
DTSTAMP:20240528T165634Z
URL:https://blueridgemusic.org/events/old-court-days/
SUMMARY:Old Court Days
DESCRIPTION:\nPhone: 540-814-0694\nEmail: director@historicrockymount.com
 \nURL: https://historicrockymount.com/court-days-franklin-county\nHours: 
 10:00am-2:00pm\n\n"Old Court Days" is held in Uptown/Downtown Rocky Mount.
  It is a celebration of the community’s heritage with multiple venues of
  live music‚ exhibits‚ artisans‚ food vendors and children activitie
 s. The Franklin County Historical Society tells the story of official cour
 t proceedings from the late 1700s through the present and tells many of th
 e local community traditions that surrounded it in Franklin County. The Fr
 anklin County Historical Society also presents an entertaining program on 
 the courthouse lawn. Guided tours to historic homes/buildings are also ava
 ilable.\n\nDirections:\nTake Route 220 to Rocky Mount.
CATEGORIES:Festival
LOCATION:Uptown/Downtown Rocky Mount\,  275 South Main Street\, Rocky Mount
 \, VA\, 24151\, United States
X-APPLE-STRUCTURED-LOCATION;VALUE=URI;X-ADDRESS= 275 South Main Street\, Ro
 cky Mount\, VA\, 24151\, United States;X-APPLE-RADIUS=100;X-TITLE=Uptown/D
 owntown Rocky Mount:geo:0,0
END:VEVENT
BEGIN:VTIMEZONE
TZID:America/New_York
X-LIC-LOCATION:America/New_York
BEGIN:DAYLIGHT
DTSTART:20240310T030000
TZOFFSETFROM:-0500
TZOFFSETTO:-0400
TZNAME:EDT
END:DAYLIGHT
END:VTIMEZONE
END:VCALENDAR