BEGIN:VCALENDAR
VERSION:2.0
PRODID:-//wp-events-plugin.com//7.2.3.1//EN
BEGIN:VEVENT
UID:24626@blueridgemusic.org
DTSTART;TZID=America/New_York:20251213T120000
DTEND;TZID=America/New_York:20251213T180000
DTSTAMP:20250627T154337Z
URL:https://blueridgemusic.org/events/old-time-appalachian-christmas-festi
 val/
SUMMARY:Old Time Appalachian Christmas Festival
DESCRIPTION:Slow down and experience some Appalachian Christmas traditions 
 in downtown Galax's annual Old Time Appalachian Christmas Festival. Held t
 he 2nd Saturday in December\, the streets are filled with hand crafted gif
 ts\, canned and baked goods\, food\, heritage demonstrations\, live music\
 , s’mores\, photo ops\, Santa\, wagon rides and tons of fun! Don't miss 
 out on some heritage Christmas traditions of Appalachia and visit the fest
 ival!\n\nPhone: 276-238-8130\nEmail: pprice-love@galaxva.com\nURL: Old Tim
 e Appalachian Christmas Festival | Visit Galax\, VA\n\nHours: 12pm - 6pm
CATEGORIES:Festival
LOCATION:Downtown Galax\, Main Street \, Galax \, Virginia\, 24333\, Carrol
 l\, United States
X-APPLE-STRUCTURED-LOCATION;VALUE=URI;X-ADDRESS=Main Street \, Galax \, Vir
 ginia\, 24333\, Carroll\, United States;X-APPLE-RADIUS=100;X-TITLE=Downtow
 n Galax:geo:0,0
END:VEVENT
BEGIN:VTIMEZONE
TZID:America/New_York
X-LIC-LOCATION:America/New_York
BEGIN:STANDARD
DTSTART:20251102T010000
TZOFFSETFROM:-0400
TZOFFSETTO:-0500
TZNAME:EST
END:STANDARD
END:VTIMEZONE
END:VCALENDAR