BEGIN:VCALENDAR
VERSION:2.0
PRODID:-//wp-events-plugin.com//7.2.3.1//EN
BEGIN:VEVENT
UID:4467@blueridgemusic.org
DTSTART;TZID=America/New_York:20260309T193000
DTEND;TZID=America/New_York:20260309T210000
DTSTAMP:20250523T140340Z
URL:https://blueridgemusic.org/events/old-time-jam-at-the-front-porch-2-20
 26-03-09/
SUMMARY:Old Time Jam at the Front Porch
DESCRIPTION:Mondays\, Thursdays\, and Saturdays are our Jam Days! Front Por
 ch Jams are open to all levels of players\, including Front Porch students
  as well as non-students. Attending a Jam is free\, low-key\, and fun! All
  Jams take place at their Water Street location\, except for the 2nd Mond
 ay Old Time Jam\, which takes place at their Dale Ave location.\n\nMonday
  Jam Host: Pete Vigour\n\nPhone: (434) 806-7062\nEmail: info@frontporchc
 ville.org\nURL: http://frontporchcville.org\n\nHours: 2nd Monday of the 
 month\, 7:30pm - 9:00pm
CATEGORIES:Jam Session
LOCATION:The Front Porch\, 508 Dale Avenue\,\, Charlottesville\, VA\, 22902
 \, United States
X-APPLE-STRUCTURED-LOCATION;VALUE=URI;X-ADDRESS=508 Dale Avenue\,\, Charlot
 tesville\, VA\, 22902\, United States;X-APPLE-RADIUS=100;X-TITLE=The Front
  Porch:geo:0,0
END:VEVENT
BEGIN:VTIMEZONE
TZID:America/New_York
X-LIC-LOCATION:America/New_York
BEGIN:DAYLIGHT
DTSTART:20260308T030000
TZOFFSETFROM:-0500
TZOFFSETTO:-0400
TZNAME:EDT
END:DAYLIGHT
END:VTIMEZONE
END:VCALENDAR