BEGIN:VCALENDAR
VERSION:2.0
PRODID:-//wp-events-plugin.com//7.2.3.1//EN
BEGIN:VEVENT
UID:4769@blueridgemusic.org
DTSTART;TZID=America/New_York:20260507T190000
DTEND;TZID=America/New_York:20260507T203000
DTSTAMP:20250523T141909Z
URL:https://blueridgemusic.org/events/old-time-jam-at-the-front-porch-3-20
 26-05-07/
SUMMARY:Old Time Jam at the Front Porch
DESCRIPTION:Mondays\, Thursdays\, and Saturdays are jam days!  Front Porch
  jams are open to all levels of players\, including Front Porch students a
 s well as non-students. Attending a jam is free\, low-key\, and fun! All j
 ams take place at our Water Street location\, except for the 2nd Monday 
 Old Time Jam\, which takes place at our Dale Ave location\, and the 3rd 
 Thursday Open Mic Night\, which takes place at Potter’s Craft Cider.\n\n
 Thursday Jam Host: Christen Hubbard\n\nPhone: (434) 806-7062\nEmail: inf
 o@frontporchcville.org\nURL: http://frontporchcville.org\n\nHours: 1st T
 hursday of the month. 7pm - 8:30pm
CATEGORIES:Jam Session
LOCATION:The Front Porch\, 221 E Water Street\, Charlottesville\, Virginia\
 , 22902\, United States
X-APPLE-STRUCTURED-LOCATION;VALUE=URI;X-ADDRESS=221 E Water Street\, Charlo
 ttesville\, Virginia\, 22902\, United States;X-APPLE-RADIUS=100;X-TITLE=Th
 e Front Porch:geo:0,0
END:VEVENT
BEGIN:VTIMEZONE
TZID:America/New_York
X-LIC-LOCATION:America/New_York
BEGIN:DAYLIGHT
DTSTART:20260308T030000
TZOFFSETFROM:-0500
TZOFFSETTO:-0400
TZNAME:EDT
END:DAYLIGHT
END:VTIMEZONE
END:VCALENDAR