BEGIN:VCALENDAR
VERSION:2.0
PRODID:-//wp-events-plugin.com//7.2.3.1//EN
BEGIN:VEVENT
UID:21982@blueridgemusic.org
DTSTART;TZID=America/New_York:20260304T183000
DTEND;TZID=America/New_York:20260304T210000
DTSTAMP:20250623T203025Z
URL:https://blueridgemusic.org/events/old-time-mountain-music-jam-2025-06-
 25-2025-07-02-2025-07-09-2025-07-16-2025-07-23-2025-07-30-2025-08-06-2025-
 08-13-2025-08-20-2025-08-27-2025-09-03-2025-09-10-2025-09-17-2025-09-24-20
 25-25-2026-03-04/
SUMMARY:Old Time Mountain Music Jam
DESCRIPTION:Every Wednesday night from 6:30 to 9:00pm\, the Historic 1908 C
 ourthouse sponsors an Old-time Mountain Music Jam. The jam is informal\, n
 ot a performance. The musicians play for their own entertainment but plent
 y of folks just come to listen. If you play\, bring your instrument. If no
 t\, just sit back and listen\, or if so moved\, dance! Check out their web
 site linked below for the Jam guidelines.\n\nPhone: 276-773-3711 \nEmail: 
 1908courthouse@gmail.com \nURL: Music Jam | Historic 1908 Courthouse\n\nHo
 urs: Every Wednesday\, 6:30pm - 9pm
CATEGORIES:Jam Session
LOCATION:Historic 1908 Courthouse\, 107 East Main Street\, Independence\, V
 irginia\, 24348\, United States
X-APPLE-STRUCTURED-LOCATION;VALUE=URI;X-ADDRESS=107 East Main Street\, Inde
 pendence\, Virginia\, 24348\, United States;X-APPLE-RADIUS=100;X-TITLE=His
 toric 1908 Courthouse:geo:0,0
END:VEVENT
BEGIN:VTIMEZONE
TZID:America/New_York
X-LIC-LOCATION:America/New_York
BEGIN:STANDARD
DTSTART:20251102T010000
TZOFFSETFROM:-0400
TZOFFSETTO:-0500
TZNAME:EST
END:STANDARD
END:VTIMEZONE
END:VCALENDAR