BEGIN:VCALENDAR
VERSION:2.0
PRODID:-//wp-events-plugin.com//7.2.3.1//EN
BEGIN:VEVENT
UID:5371@blueridgemusic.org
DTSTART;TZID=America/New_York:20260521T190000
DTEND;TZID=America/New_York:20260521T210000
DTSTAMP:20250523T151409Z
URL:https://blueridgemusic.org/events/open-mic-night-at-potters-craft-cide
 r-2026-05-21/
SUMMARY:Open Mic Night at Potter's Craft Cider
DESCRIPTION:Mondays\, Thursdays\, and Saturdays are jam days!  Front Porch
  jams are open to all levels of players\, including Front Porch students a
 s well as non-students. Attending a jam is free\, low-key\, and fun! The 3
 rd Thursday Open Mic Night takes place at Potter’s Craft Cider. Food and
  drinks are available to purchase at Potter's Craft Cider. Signing up for 
 an open mic slot starts at 6:30pm\, must be in person and is on a first co
 me\, first serve basis. Original songs only.\n\nThursday Jam Host: Erynn M
 cLeod\n\nPhone: (434) 806-7062\nEmail: info@frontporchcville.org\nURL: 
 http://frontporchcville.org\n\nHours: 3rd Thursday of the month\, 7pm - 9p
 m
CATEGORIES:Jam Session
LOCATION:Potter’s Craft Cider\, 1350 Arrowhead Valley Rd\, Charlottesvill
 e\, Virginia\, 22903\, United Kingdom
X-APPLE-STRUCTURED-LOCATION;VALUE=URI;X-ADDRESS=1350 Arrowhead Valley Rd\, 
 Charlottesville\, Virginia\, 22903\, United Kingdom;X-APPLE-RADIUS=100;X-T
 ITLE=Potter’s Craft Cider:geo:0,0
END:VEVENT
BEGIN:VTIMEZONE
TZID:America/New_York
X-LIC-LOCATION:America/New_York
BEGIN:DAYLIGHT
DTSTART:20260308T030000
TZOFFSETFROM:-0500
TZOFFSETTO:-0400
TZNAME:EDT
END:DAYLIGHT
END:VTIMEZONE
END:VCALENDAR