BEGIN:VCALENDAR
VERSION:2.0
PRODID:-//wp-events-plugin.com//7.2.3.1//EN
BEGIN:VEVENT
UID:18562@blueridgemusic.org
DTSTART;TZID=America/New_York:20260328T170000
DTEND;TZID=America/New_York:20260328T210000
DTSTAMP:20250620T135931Z
URL:https://blueridgemusic.org/events/patrick-county-music-association-mon
 thly-jamboree-2026-03-28/
SUMMARY:Patrick County Music Association Monthly Jamboree
DESCRIPTION:The Patrick County Music Association offers local - as well as 
 famous - talent at free monthly shows at the Stuart Rotary Building the fo
 urth Saturday of every month. There is plenty of space for dancing\, socia
 lizing\, and grabbing a bite to eat before the next band comes on.\n\nEmai
 l: pcmusic@gmail.com\nURL: Patrick County Music Association | Facebook\n\n
 Hours: Doors open at 5pm\, music starts at 6pm
CATEGORIES:Jam Session
LOCATION:Stuart Rotary Building\, 264 Woodland Dr\, Stuart\, Virginia\, 241
 71\, United States
X-APPLE-STRUCTURED-LOCATION;VALUE=URI;X-ADDRESS=264 Woodland Dr\, Stuart\, 
 Virginia\, 24171\, United States;X-APPLE-RADIUS=100;X-TITLE=Stuart Rotary 
 Building:geo:0,0
END:VEVENT
BEGIN:VTIMEZONE
TZID:America/New_York
X-LIC-LOCATION:America/New_York
BEGIN:DAYLIGHT
DTSTART:20260308T030000
TZOFFSETFROM:-0500
TZOFFSETTO:-0400
TZNAME:EDT
END:DAYLIGHT
END:VTIMEZONE
END:VCALENDAR