BEGIN:VCALENDAR
VERSION:2.0
PRODID:-//wp-events-plugin.com//7.2.3.1//EN
BEGIN:VEVENT
UID:17935@blueridgemusic.org
DTSTART;TZID=America/New_York:20260509T100000
DTEND;TZID=America/New_York:20260509T120000
DTSTAMP:20250616T183321Z
URL:https://blueridgemusic.org/events/pickers-and-fiddlers-bluegrass-and-g
 ospel-musicfest-2026-05-09/
SUMMARY:Pickers and Fiddlers Bluegrass and Gospel Musicfest
DESCRIPTION:Singers and musicians from around the area join together to sha
 re their talents here at the Pickers and Fiddlers Bluegrass and Gospel Mus
 icfest. It is held every 2nd Saturday of the month at the Pocahontas Bapti
 st Church fellowship hall. Free breakfast and beverages are given to all p
 layers\, so bring your instrument and come play along!\n\nPhone: 276-629-5
 394\nEmail: pocahontasbassett@embarqmail.com\nURL: Pocahontas Bassett Bapt
 ist Church | Bassett\, Virginia\n\nHours: 10am - 12pm
CATEGORIES:Gathering
LOCATION:Pocahontas Bassett Baptist Church\,  120 Bassett Heights Road\, Ba
 ssett\, VA\, 24055\, United States
X-APPLE-STRUCTURED-LOCATION;VALUE=URI;X-ADDRESS= 120 Bassett Heights Road\,
  Bassett\, VA\, 24055\, United States;X-APPLE-RADIUS=100;X-TITLE=Pocahonta
 s Bassett Baptist Church:geo:0,0
END:VEVENT
BEGIN:VTIMEZONE
TZID:America/New_York
X-LIC-LOCATION:America/New_York
BEGIN:DAYLIGHT
DTSTART:20260308T030000
TZOFFSETFROM:-0500
TZOFFSETTO:-0400
TZNAME:EDT
END:DAYLIGHT
END:VTIMEZONE
END:VCALENDAR