BEGIN:VCALENDAR
VERSION:2.0
PRODID:-//wp-events-plugin.com//7.2.3.1//EN
BEGIN:VEVENT
UID:181@blueridgemusic.org
DTSTART;TZID=America/New_York;VALUE=DATE:20230709
DTEND;TZID=America/New_York;VALUE=DATE:20230712
DTSTAMP:20230629T215152Z
URL:https://blueridgemusic.org/events/red-wing-music-festival/
SUMMARY:Red Wing Music Festival
DESCRIPTION:This is a family-friendly celebration of multiple stages with d
 ozens of high-quality national and regional bands‚ kids events and activ
 ities‚ bike rides in the scenic Shenandoah Valley and close access to gr
 eat hiking and fishing. Check the website for more information and Covid g
 uidelines.\n\nEmail: info@redwingroots.com\nURL: http://www.redwingroots
 .com\n\nHours: 10:00am-8:00pm\n\n\nDirections:\nFrom Staunton‚ take US-2
 50 West. Take a right on Hwy. 42. Turn left onto Natural Chimneys Road and
  a right onto Natural Chimneys Lane.
CATEGORIES:Festival
LOCATION:Natural Chimneys Park\, 94 Natural Chimneys Lane\, Mt. Solon\, Vir
 ginia\, 22843\, Augusta\, United States
GEO:38.357568;-79.083674
X-APPLE-STRUCTURED-LOCATION;VALUE=URI;X-ADDRESS=94 Natural Chimneys Lane\, 
 Mt. Solon\, Virginia\, 22843\, Augusta\, United States;X-APPLE-RADIUS=100;
 X-TITLE=Natural Chimneys Park:geo:38.357568,-79.083674
END:VEVENT
BEGIN:VTIMEZONE
TZID:America/New_York
X-LIC-LOCATION:America/New_York
BEGIN:DAYLIGHT
DTSTART:20230312T030000
TZOFFSETFROM:-0500
TZOFFSETTO:-0400
TZNAME:EDT
END:DAYLIGHT
END:VTIMEZONE
END:VCALENDAR