BEGIN:VCALENDAR
VERSION:2.0
PRODID:-//wp-events-plugin.com//7.2.3.1//EN
BEGIN:VEVENT
UID:5758@blueridgemusic.org
DTSTART;TZID=America/New_York;VALUE=DATE:20250620
DTEND;TZID=America/New_York;VALUE=DATE:20250623
DTSTAMP:20250527T143758Z
URL:https://blueridgemusic.org/events/red-wing-roots-music-festival/
SUMMARY:Red Wing Roots Music Festival
DESCRIPTION:The Red Wing Roots Music Festival showcases an impressive 3-day
  lineup of bands\, stages\, activities\, and much more! The festival takes
  place right in the Natural Chimneys Park in Mt Solon\, Virginia\, so you 
 can explore the great outdoors and all the other attractions the park has 
 to offer while attending the festival. To purchase tickets and for more in
 formation\, visit their website linked below.\n\nURL: Red Wing Roots Fest
 ival
CATEGORIES:Festival
LOCATION:Natural Chimneys Park\, 94 Natural Chimneys Lane\, Mt. Solon\, Vir
 ginia\, 22843\, Augusta\, United States
GEO:38.357568;-79.083674
X-APPLE-STRUCTURED-LOCATION;VALUE=URI;X-ADDRESS=94 Natural Chimneys Lane\, 
 Mt. Solon\, Virginia\, 22843\, Augusta\, United States;X-APPLE-RADIUS=100;
 X-TITLE=Natural Chimneys Park:geo:38.357568,-79.083674
END:VEVENT
BEGIN:VTIMEZONE
TZID:America/New_York
X-LIC-LOCATION:America/New_York
BEGIN:DAYLIGHT
DTSTART:20250309T030000
TZOFFSETFROM:-0500
TZOFFSETTO:-0400
TZNAME:EDT
END:DAYLIGHT
END:VTIMEZONE
END:VCALENDAR