BEGIN:VCALENDAR
VERSION:2.0
PRODID:-//wp-events-plugin.com//7.2.3.1//EN
BEGIN:VEVENT
UID:500@blueridgemusic.org
DTSTART;TZID=America/New_York:20240907T130000
DTEND;TZID=America/New_York:20240907T233000
DTSTAMP:20240528T181810Z
URL:https://blueridgemusic.org/events/rockbridge-mountain-music-and-dance-
 festival-2/
SUMMARY:Rockbridge Mountain Music and Dance Festival
DESCRIPTION:This festival‚ which takes place in a beautiful area along th
 e Maury River‚ features bluegrass and old-time music‚ square dancing a
 nd clogging workshops‚ banjo and fiddle workshops‚ and lots of other m
 usical entertainment. The stage shows do not begin until Friday at 8pm‚ 
 but the campground and parking lot picking occurs continuously.\nPhone: 5
 40-261-7321\nEmail: rkb.fest@gmail.com\nURL: http://www.rockbridgefestiv
 al.org\nHours: Friday: 7:45pm-11:30pm Saturday:1:00pm-11:30pm\n\nDirection
 s:\nFrom Interstate 81 take exit 188 onto Route US 60 east. Go into Buena 
 Vista and take Route 501 south (on your right) and watch for the sign and 
 road to the campground.
CATEGORIES:Festival
LOCATION:Glen Maury Park Campground\,  101 Maury River Road\, Buena Vista\,
  VA\, 24416\, United States
X-APPLE-STRUCTURED-LOCATION;VALUE=URI;X-ADDRESS= 101 Maury River Road\, Bue
 na Vista\, VA\, 24416\, United States;X-APPLE-RADIUS=100;X-TITLE=Glen Maur
 y Park Campground:geo:0,0
END:VEVENT
BEGIN:VTIMEZONE
TZID:America/New_York
X-LIC-LOCATION:America/New_York
BEGIN:DAYLIGHT
DTSTART:20240310T030000
TZOFFSETFROM:-0500
TZOFFSETTO:-0400
TZNAME:EDT
END:DAYLIGHT
END:VTIMEZONE
END:VCALENDAR