BEGIN:VCALENDAR
VERSION:2.0
PRODID:-//wp-events-plugin.com//7.2.3.1//EN
BEGIN:VEVENT
UID:5808@blueridgemusic.org
DTSTART;TZID=America/New_York;VALUE=DATE:20250905
DTEND;TZID=America/New_York;VALUE=DATE:20250907
DTSTAMP:20250531T191740Z
URL:https://blueridgemusic.org/events/rockbridge-mountain-music-and-dance-
 festival-3/
SUMMARY:Rockbridge Mountain Music and Dance Festival
DESCRIPTION:The Rockbridge Mountain Music &amp\; Dance Festival is not your
  usual festival. There's no contest and no fancy line-up of big-name acts.
   No crowds.  No pressure to arrive early to get a spot because there is
  plenty of room! If you love dancing and old-time music in a mellow settin
 g\, Rockbridge is the festival for you - make sure you don't miss it! The 
 festival always takes place the weekend after Labor Day. Day admission is 
 $20 per person\, and camping admission is $60 per person (see website for 
 details).\n\nURL: https://www.rockbridgefestival.org/\n\nEmail: rkb.fest
 @gmail.com\n\nHours: Friday\, September 5th - start at 7pm\;    Saturday
 \, September 6th - start at 1pm\n\n&nbsp\;
CATEGORIES:Festival
LOCATION:Glen Maury Park\,  101 Maury River Drive\, Buena Vista\, VA\, 2441
 6\, United States
X-APPLE-STRUCTURED-LOCATION;VALUE=URI;X-ADDRESS= 101 Maury River Drive\, Bu
 ena Vista\, VA\, 24416\, United States;X-APPLE-RADIUS=100;X-TITLE=Glen Mau
 ry Park:geo:0,0
END:VEVENT
BEGIN:VTIMEZONE
TZID:America/New_York
X-LIC-LOCATION:America/New_York
BEGIN:DAYLIGHT
DTSTART:20250309T030000
TZOFFSETFROM:-0500
TZOFFSETTO:-0400
TZNAME:EDT
END:DAYLIGHT
END:VTIMEZONE
END:VCALENDAR