BEGIN:VCALENDAR
VERSION:2.0
PRODID:-//wp-events-plugin.com//7.2.3.1//EN
BEGIN:VEVENT
UID:17923@blueridgemusic.org
DTSTART;TZID=America/New_York:20250920T150000
DTEND;TZID=America/New_York:20250920T220000
DTSTAMP:20250616T175022Z
URL:https://blueridgemusic.org/events/rocky-mount-fest/
SUMMARY:Rocky Mount Fest
DESCRIPTION:Rocky Mount Fest is a celebration that brings together the comm
 unity for a weekend filled with live music and local food. Set in the hear
 t of Rocky Mount\, the festival showcases the best of our town's talent an
 d vibrant culture. With a variety of vendors\, crafts\, and entertainment 
 options\, it's a perfect event for all ages to enjoy and make lasting memo
 ries. Mark your calendars and get ready for a weekend of fun\, laughter\, 
 and unforgettable memories.\n\nURL: Rocky Mount Fest | Discover Rocky Moun
 t\nHours: 3pm - 10pm
CATEGORIES:Festival
LOCATION:Downtown Rocky Mount\, 149 Franklin St\, Rocky Mount\, Virginia\, 
 24151\, United States
X-APPLE-STRUCTURED-LOCATION;VALUE=URI;X-ADDRESS=149 Franklin St\, Rocky Mou
 nt\, Virginia\, 24151\, United States;X-APPLE-RADIUS=100;X-TITLE=Downtown 
 Rocky Mount:geo:0,0
END:VEVENT
BEGIN:VTIMEZONE
TZID:America/New_York
X-LIC-LOCATION:America/New_York
BEGIN:DAYLIGHT
DTSTART:20250309T030000
TZOFFSETFROM:-0500
TZOFFSETTO:-0400
TZNAME:EDT
END:DAYLIGHT
END:VTIMEZONE
END:VCALENDAR