BEGIN:VCALENDAR
VERSION:2.0
PRODID:-//wp-events-plugin.com//7.2.3.1//EN
BEGIN:VEVENT
UID:384@blueridgemusic.org
DTSTART;TZID=America/New_York;VALUE=DATE:20240523
DTEND;TZID=America/New_York;VALUE=DATE:20240527
DTSTAMP:20240528T170921Z
URL:https://blueridgemusic.org/events/rooster-walk-music-and-arts-festival
 /
SUMMARY:Rooster Walk Music and Arts Festival
DESCRIPTION:The Rooster Walk Music and Arts Festival is a charity fundraise
 r that takes place every Memorial Day weekend at Pop’s Farm in Axton‚ 
 VA‚ (just outside of Martinsville). The festival is operated by Rooster 
 Walk Inc.‚ a 501c3 nonprofit dedicated to promoting music‚ arts and ed
 ucation in the Martinsville/Henry County area. Rooster Walk was created in
  memory of two Martinsville natives who passed away while still in their 2
 0’s--Edwin "the Rooster" Penn and Walker Shank. Edwin and Walker loved M
 artinsville‚ music‚ the outdoors and their childhood friends who creat
 ed the event as a tribute.\n\nPhone: 276-690-9255\nEmail: roosterwalk@gm
 ail.com\nURL: http://www.roosterwalk.com\n\nDirections:\nTake US-58 East 
 toward Danville. Turn right on Daniel Road. Turn slight right onto Hobson 
 Road.
CATEGORIES:Festival
LOCATION:Pop’s Farm\,  675 Hobson Road\, Axton\, Virginia\, 24054\, Unite
 d States
X-APPLE-STRUCTURED-LOCATION;VALUE=URI;X-ADDRESS= 675 Hobson Road\, Axton\, 
 Virginia\, 24054\, United States;X-APPLE-RADIUS=100;X-TITLE=Pop’s Farm:g
 eo:0,0
END:VEVENT
BEGIN:VTIMEZONE
TZID:America/New_York
X-LIC-LOCATION:America/New_York
BEGIN:DAYLIGHT
DTSTART:20240310T030000
TZOFFSETFROM:-0500
TZOFFSETTO:-0400
TZNAME:EDT
END:DAYLIGHT
END:VTIMEZONE
END:VCALENDAR